Workbook
Name Capital: #REF!
Name Capital: #REF!
Name Capital: #REF!
Name Capital: #REF!
Name Capital: #REF!
Name Capital: #REF!
Name Capital: #REF!
Name Capital1: #REF!
Name Capital1: #REF!
Name Capital1: #REF!
Name Capital1: #REF!
Name Capital1: #REF!
Name Capital1: #REF!
Name Capital1: #REF!
Name euro: Parametros!#REF!
Name euro: Parametros!$F$9
Name euro_divisa: Parametros!#REF!
Name Interes: #REF!
Name Interes: #REF!
Name Interes: #REF!
Name Interes: #REF!
Name Interes: #REF!
Name Interes: #REF!
Name Interes: #REF!
Name interes1: #REF!
Name interes1: #REF!
Name interes1: #REF!
Name interes1: #REF!
Name interes1: #REF!
Name interes1: #REF!
Name interes1: #REF!
Name inv_propia: '[1]Financiación Inicial'!$B$8:$B$13
Name inv_propia: 'Financiación Inicial'!$B$8:$B$13
Name irpf: '[1]Datos Básicos'!$I$25
Name irpf: 'Datos Básicos'!$I$25
Name irpf: 'Datos Básicos'!$I$25
Name isoc: '[1]Datos Básicos'!$B$25
Name isoc: 'Datos Básicos'!$B$25
Name ITP: 'Datos Básicos'!$D$54
Name mes0: '[1]Datos Básicos'!$C$19
Name mes0: '[2]Transitorio Inicial'!$F$4
Name mes0: 'Datos Básicos'!$C$19
Name Moneda: [1]Parametros!$F$6
Name Moneda: Parametros!#REF!
Name Moneda: Parametros!$F$6
Name Moneda: Parametros!$F$6
Name pcent_ini_sueldosocios: Plantilla!#REF!
Name pcent_ini_sueldosocios: 'RR HH'!#REF!
Name pcent_iniciales: Plantilla!#REF!
Name pcent_iniciales: 'RR HH'!#REF!
Name resprevio: '[1]Financiación Inicial'!$B$11:$B$12
Name resprevio: 'Financiación Inicial'!$B$11:$B$12
Name retIRPF: '[1]Datos Básicos'!$J$27
Name retIRPF: 'Datos Básicos'!$J$27
Name TARIFAPLANA: 'RR HH'!$L$7:$L$8
Name tesoreriasec: [1]Parametros!$C$10
Name tesoreriasec: Parametros!$C$10
Name Tot_ventas_año1: #REF!
Name Tot_ventas_año1: #REF!
Name Tot_ventas_año1: #REF!

Sheet MENÚ PRINCIPAL
A1: PLAN ECONÓMICO FINANCIERO PREVISIONAL A 5 AÑOS
E9: RESULTADOS
D11: PREVISIÓN DE INGRESOS
C13: PREVISIÓN DE GASTOS
B15: INICIO ACTIVIDAD
A21: Fecha actualización: Octubre 2026

Sheet RESULTADOS
C1: RESULTADOS
C7: PLANTILLA | F7: BALANCES ANUALES PREVISIONALES
C9: RESUMEN VENTAS 5 AÑOS | F9: BALANCES ANUALES REALES
C11: RESUMEN TESORERÍAS | F11: COMPARATIVA BALANCES ANUALES
C13: ESTIMACIÓN DEL PUNTO DE EQUILIBRIO
C15: RESUMEN GASTOS FIJOS
F16: CUENTAS DE RESULTADOS PREVISIONALES
C17: INGRESOS Y GASTOS FINANCIEROS
F18: CUENTAS DE RESULTADOS REALES
C19: CUADRO AMORTIZACIONES INMOVILIZADO
F20: COMPARATIVA CUENTAS DE RESULTADOS
C21: DATOS EVALUACIÓN
C23: PRÉSTAMOS
C25: LEASING | F25: RATIOS BÁSICOS
C27: RENTING | F27: RATIOS BÁSICOS REALES
F29: COMPARATIVA RATIOS BÁSICOS
C31: LINEA 2. INICIO ACTIVIDAD 2023
C33: MICROCRÉDITOS | F33: Traspaso de datos a Agencia IDEA
C35: AYUDAS AUTÓNOMO | F35: ACTIVO
F37: PASIVO
F39: DEBE
F41: HABER

Sheet PREVISIÓN INGRESOS
C1: PREVISIÓN DE INGRESOS
C7: INCENTIVOS A LA INVERSIÓN
C9: PRECIOS DE VENTA Y POLÍTICA COBROS
C11: PREVISIÓN VENTAS 5 AÑOS

Sheet PREVISIÓN GASTOS
C1: PREVISIÓN DE GASTOS
C7: COSTES VARIABLES Y POLÍTICA DE PAGOS
C9: RRHH
C11: COSTES FIJOS

Sheet INICIO ACTIVIDAD
C1: INICIO ACTIVIDAD
C7: DATOS BÁSICOS
C9: PARÁMETROS PARA LA SIMULACIÓN
C11: INVERSIONES INICIALES ACTIVOS CORRIENTES
C13: INVERSIONES INICIALES ACTIVOS NO CORRIENTES
C15: FINANCIACIÓN INICIAL

Sheet Índice
B2: ='Datos Básicos'!B8 -> 0
A4: Índice de Hojas del Plan Financiero:
L5: Impresión de hojas
A6: nº | B6: Nombre de la Hoja de Cálculo | J6: nº páginas | K6: Tipo hoja | L6: Estudio Preliminar | M6: Proyecto Final
A7: 1 | B7: Índice | J7: 1 | K7: Auxiliar | L7: NO | M7: SÍ
A8: =A7+1 -> 2 | B8: Condiciones de Uso | J8: 0 | K8: Auxiliar | L8: NO | M8: NO
A9: =A8+1 -> 3 | B9: Datos Básicos | J9: 1 | K9: Datos | L9: SÍ | M9: SÍ
A10: =A9+1 -> 4 | B10: Parámetros | J10: 1 | K10: Datos | L10: NO | M10: NO
A11: =A10+1 -> 5 | B11: Inversiones Iniciales Activos No Corrientes | J11: 1 | K11: Datos | L11: SÍ | M11: SÍ | Q11: Código de colores de pestañas de hojas
A12: =A11+1 -> 6 | B12: Inversiones Activos Corrientes | J12: 1 | K12: Datos | L12: SÍ | M12: SÍ
A13: =A12+1 -> 7 | B13: Incentivos | J13: 1 | K13: Incentivos | L13: SÍ | M13: SÍ | R13: Hoja de datos. Imprescindible
A14: =A13+1 -> 8 | B14: Fuentes de Financiación Inicial | J14: 1 | K14: Datos | L14: SÍ | M14: SÍ | R14: Hoja de datos opcionales
A15: =A14+1 -> 9 | B15: Prestamos: cálculos detallados | J15: 1 | K15: Datos | L15: =IF(Préstamos!B6+Préstamos!C6=0,"NO","SÍ") -> NO | M15: =L15 -> NO
A16: =A15+1 -> 10 | B16: Leasing: Cálculos detallados | J16: 1 | K16: Datos | L16: =IF(Leasing!B7+Leasing!C7=0,"NO","SÍ") -> NO | M16: =L16 -> NO
A17: =A16+1 -> 11 | B17: Renting: Cálculos detallados | J17: 1 | K17: Datos | L17: =IF(Renting!B7+Renting!C7=0,"NO","SÍ") -> NO | M17: =L17 -> NO
A18: =A17+1 -> 12 | B18: Recursos Humanos | J18: 1 | K18: Datos | L18: SÍ | M18: SÍ | R18: Hoja de resultados: Imprescindible
A19: =A18+1 -> 13 | B19: Plantilla Detallada por meses | J19: 2 | K19: Datos | L19: =IF(MAX(SUM(Plantilla!O16:O17),SUM(Plantilla!O27:O28),SUM(Plantilla!O38:O39),SUM(Plantilla!O49:O50),SUM(Plantilla!O60:O61))>SUM('RR HH'!D7:D8),"SÍ","NO") -> NO | M19: =L19 -> NO | R19: Hoja de Resúmen de resultados
A20: =A19+1 -> 14 | B20: Gastos Fijos: Datos | J20: 1 | K20: Datos | L20: NO | M20: NO | R20: Hoja de cálculos internos detallados
A21: =A20+1 -> 15 | B21: Precios de Venta y Costes Variables por familias | J21: 1 | K21: Datos | L21: SÍ | M21: SÍ | R21: Hoja de referencia e información
A22: =A21+1 -> 16 | B22: Estimación de Ventas: Datos | J22: 2 | K22: Datos | L22: NO | M22: NO | R22: Hoja para traspaso de datos al modelo de la Agencia de Innovación
A23: =A22+1 -> 17 | B23: Balances Anuales Previsionales: Comparativa | J23: 1 | K23: Resultados | L23: SÍ | M23: SÍ
A24: =A23+1 -> 18 | B24: Cuadro de amortizaciones de inmovilizado | J24: 1 | K24: Auxiliar | L24: NO | M24: SÍ | R24: Hoja interna: NO usar
A25: =A23+1 -> 18 | B25: Ventas Anuales: resúmen | J25: 1 | K25: Resultados | L25: SÍ | M25: SÍ
A26: =A25+1 -> 19 | B26: Cuentas de Resultados: Comparativa | J26: 1 | K26: Resultados | L26: SÍ | M26: SÍ
A27: =A26+1 -> 20 | B27: Impuesto de sociedades | J27: 1 | K27: Resultados | L27: NO | M27: =IF(isoc<>0,"SÍ","NO") -> NO
A28: =A27+1 -> 21 | B28: I.R.P.F. De Profesionales y Autónomos | J28: 1 | K28: Resultados | L28: NO | M28: =IF(irpf<>0,"SÍ","NO") -> SÍ
A29: =A28+1 -> 22 | B29: Gastos Fijos Anuales: Resumen | J29: 1 | K29: Resultados | L29: SÍ | M29: SÍ
A30: =A29+1 -> 23 | B30: Ingresos y Gastos Financieros | J30: 1 | K30: Auxiliar | L30: SÍ | M30: SÍ
A31: =A30+1 -> 24 | B31: Tesoerías Mensuales: Resúmen | J31: 1 | K31: Resultados | L31: SÍ | M31: SÍ
A32: =A31+1 -> 25 | B32: Estimación del Punto de Equilibrio | J32: 1 | K32: Resultados | L32: SÍ | M32: SÍ
A33: =A32+1 -> 26 | B33: Ratios Básicos de la Empresa | J33: 1 | K33: Resultados | L33: NO | M33: SÍ
A34: =A33+1 -> 27 | B34: Notas de Ratios | J34: 1 | K34: Informativa | L34: NO | M34: NO
A35: =A34+1 -> 28 | B35: Datos de Evaluación | J35: 1 | K35: Auxiliar | L35: NO | M35: NO
A36: =A35+1 -> 29 | B36: ACTIVO | J36: 1 | K36: Auxiliar | L36: NO | M36: NO
A37: =A36+1 -> 30 | B37: PASIVO | J37: 1 | K37: Auxiliar | L37: NO | M37: NO
A38: =A37+1 -> 31 | B38: DEBE | J38: 1 | K38: Auxiliar | L38: NO | M38: NO
A39: =A38+1 -> 32 | B39: HABER | J39: 1 | K39: Auxiliar | L39: NO | M39: NO
I41: nº total de páginas | J41: =SUM(J7:J40) -> 34 | L41: =SUMIF(L7:L35,"SÍ",$J7:$J35) -> 14 | M41: =SUMIF(M7:M35,"SÍ",$J7:$J35) -> 18
I42: nº total hojas de cálculo | J42: =COUNT(J7:J40) -> 33 | L42: folios | M42: folios
A49: 15 | B49: Balance Inicial Previo | J49: 1 | K49: Resultados | L49: SÍ | M49: SÍ
...

Sheet Datos Básicos
A1: Datos generales del Proyecto
A5: Centro : | B5: Centro Andaluz de Emprendimiento | L5: Código de colores de celdas
B6: CADE xxxxxx
N7: Dato imprescindible
A8: Proyecto / empresa:
N9: Parámetro de ajuste (opcional)
A10: Promotores: | N10: Parámetro de ajuste fino (opcional)
N12: Dato de ejercicios anteriores: Solo en empresas NO nuevas
A13: Fecha de realización: | B13: 45461 | F13: Escenario Incentivos | I13: NO
N14: Dato anterior al inicio y no usado (cualquier color)
B16: Año 0 | C16: =IF($B16="Año 0",1,2) -> 1 | D16: =C16+1 -> 2 | E16: =D16+1 -> 3 | F16: =E16+1 -> 4
A17: Años de actividad: | B17: 2026 | C17: =B17+1 -> 2027 | D17: =C17+1 -> 2028 | E17: =D17+1 -> 2029 | F17: =E17+1 -> 2030
A19: Inicio de la actividad: | B19: mes | C19: 1 | D19: =" del "&B16&" = mes de " -> del Año 0 = mes de | G19: =CONCATENATE(TEXT(DATE('Datos Básicos'!B17,mes0+MONTH(Parametros!A46)-1,10),"mmmm")," de ",'Datos Básicos'!B17) -> enero de 2026 | L19: Código de colores de pestañas de hojas
N21: Hoja de datos. Imprescindible
A22: Forma Jurídica / Fiscal: | B22: Empr. Individual (Reg. General) | N22: Hoja de datos opcionales
A24: Impuesto de Sociedades | F24: Impuesto Renta (I.R.P.F.) | N24: Hoja de resultados: Imprescindible
A25: Tipo impositivo: | B25: =VLOOKUP(B22,$A$35:$E$50,3,0) -> 0 | F25: % cuota IRPF (Ing-Gastos) | I25: =VLOOKUP(B22,$A$35:$E$50,4,0) -> 0.2 | N25: Hoja de Resúmen de resultados
A26: % ingresos a cuenta Imp. Sociedades | B26: =VLOOKUP(B22,$A$35:$G$51,7,0) -> 0 | F26: % Retención en Facturas | I26: =VLOOKUP(B22,$A$35:$E$50,5,0) -> 0 | N26: Hoja de cálculos internos detallados
F27: % facturación con retención | I27: 0.5 | J27: =I27*I26 -> 0 | N27: Hoja de referencia e información
E28: =IF(AND(B22="Empr. Individual (Rec. Equiv.)",MAX(Parametros!E24:F31,Parametros!F33,'Inversiones AC'!C11:C13)>0),"Recargo de Equivalencia: Los datos de IVA deben ser todos 0 y considerarse en los precios de venta o de coste","") | N28: Hoja para traspaso de datos al modelo de la Agencia de Innovación
A29: Tipo de IVA repercutido | C29: 0.21
A30: Tipo de IVA soportado | C30: 0.21 | N30: Hoja interna: NO usar
A33: =VLOOKUP(B22,A35:H50,8,0) -> 1
C34: Soc. t. Med | D34: IRPF cuota | E34: IRPF retención | F34: ITPyAJD | G34: ret, Soc
A35: Sociedad Limitada Unipersonal | C35: 0.25 | D35: 0 | E35: 0 | F35: 0 | G35: 0.19 | H35: 0
A36: Sociedad Limitada (S.L.) | C36: 0.25 | D36: 0 | E36: 0 | F36: 0 | G36: 0.19 | H36: 0
A37: Empr. Individual (Reg. General) | C37: 0 | D37: 0.2 | E37: 0 | F37: 0 | G37: 0 | H37: 1
A38: Empr. Individual (Rec. Equiv.) | C38: 0 | D38: 0.2 | E38: 0 | F38: 0 | G38: 0 | H38: 1
A39: Comunidad Bienes (C.B.) | C39: 0 | D39: 0.2 | E39: 0 | F39: 0 | G39: 0 | H39: 0
A40: Sociedad Civil (S.C.) | C40: 0 | D40: 0.2 | E40: 0 | F40: 0 | G40: 0 | H40: 0
A41: Profesional Independiente | C41: 0 | D41: 0.2 | E41: 0.21 | F41: 0 | G41: 0 | H41: 1
A42: Soc. Civil de profesionales | C42: 0 | D42: 0.2 | E42: 0.21 | F42: 0 | G42: 0 | H42: 0
A43: Sociedad Limitada Laboral (S.L.L.) | C43: 0.25 | D43: 0 | E43: 0 | F43: 0 | G43: 0.19 | H43: 0
A44: Sociedad Anónima Laboral (S.A.L.) | C44: 0.25 | D44: 0 | E44: 0 | F44: 0 | G44: 0.19 | H44: 0
A45: Sociedad Cooperativa (S.C.A.) | C45: 0.2 | D45: 0 | E45: 0 | F45: 0 | G45: 0.14 | H45: 0
A46: Cooperativa Protegida (S.C.A.) | C46: 0.2 | D46: 0 | E46: 0 | F46: 0 | G46: 0.14 | H46: 0
... A50: S.L. Nueva Empresa (S.L.N.E.) | C50: 0.25 | D50: 0 | E50: 0 | F50: 0 | G50: 0.19 | H50: 0
A54: ITP Imp. Transmisiones Patrimoniales | D54: =VLOOKUP(B22,$A$35:$F$50,6,0) -> 0

Sheet Parametros
A1: Parámetros de la simulación
A2: ='Datos Básicos'!B8 -> 0
A6: Tipos interés saldos deudores y acreedores | E6: MONEDA : | F6: Euros | G6: =IF(F6="Euros","€",IF(F6="Pesetas","Ptas.",IF(F6="Dólares","US $","UK £"))) -> €
B7: Tipo de interés del crédito | C7: 0.07
B8: Intereses de la cuenta corriente | C8: 0 | E8: Tipo de cambio
E9: 1 € = | F9: 166.386 | G9: Ptas.
A10: Nivel de tesorería Mínimo | C10: 2000
A12: Incrementos de precios | B12: ='Datos Básicos'!B16 -> Año 0 | C12: ='Datos Básicos'!C16 -> 1 | D12: =C12+1 -> 2 | E12: =D12+1 -> 3 | F12: =E12+1 -> 4
A13: interanuales | B13: ='Datos Básicos'!B17 -> 2026 | C13: =B13+1 -> 2027 | D13: =C13+1 -> 2028 | E13: =D13+1 -> 2029 | F13: =E13+1 -> 2030
A14: IPC para Gastos Fijos | C14: 0.02 | D14: =C14 -> 0.02 | E14: =D14 -> 0.02 | F14: =E14 -> 0.02
B16: Tasa de inflacción prevista | C16: 0.02
B18: Años de antigüedad en el mercado | C18: 0
A22: Impuestos Indirectos: IVA
A23: Familias de Productos (productos o servicios) | E23: Tipo IVA Venta | F23: Tipo IVA C.V.
A24: =IF('Precios Venta y P. Cobros'!A11="","",'Precios Venta y P. Cobros'!A11) | E24: 0.21 | F24: 0.21
A25: =IF('Precios Venta y P. Cobros'!A12="","",'Precios Venta y P. Cobros'!A12) | E25: 0.21 | F25: 0.21
A26: =IF('Precios Venta y P. Cobros'!A13="","",'Precios Venta y P. Cobros'!A13) | E26: 0.21 | F26: 0.21
A27: =IF('Precios Venta y P. Cobros'!A14="","",'Precios Venta y P. Cobros'!A14) | E27: 0.21 | F27: 0.21
A28: =IF('Precios Venta y P. Cobros'!A15="","",'Precios Venta y P. Cobros'!A15) | E28: 0.21 | F28: 0.21
A29: =IF('Precios Venta y P. Cobros'!A16="","",'Precios Venta y P. Cobros'!A16) | E29: 0 | F29: 0
A30: =IF('Precios Venta y P. Cobros'!A17="","",'Precios Venta y P. Cobros'!A17) | E30: 0 | F30: 0
A31: =IF('Precios Venta y P. Cobros'!A18="","",'Precios Venta y P. Cobros'!A18) | E31: 0 | F31: 0
E33: Tipo de IVA soportado de Gastos Fijos e Inversiones | F33: 0.21
E35: Empresa exportadora: | F35: No
A38: Políticas de dividendos y reservas | G38: =IF(AND(SUM(B42:D42)>0,SUM('Datos Básicos'!I26:I29)>0),"Empresario individual o profesional: NO PUEDE HABER DIVIDENDOS","")
A39: Aplicación de | B39: =B12 -> Año 0 | C39: =C12 -> 1 | D39: =D12 -> 2 | E39: =E12 -> 3 | F39: =F12 -> 4
A40: Beneficios: | B40: ='Datos Básicos'!B17 -> 2026 | C40: =B40+1 -> 2027 | D40: =C40+1 -> 2028 | E40: =D40+1 -> 2029 | F40: =E40+1 -> 2030
A41: Dotación de reservas | B41: 1 | C41: =B41 -> 1 | D41: =C41 -> 1 | E41: =D41 -> 1 | F41: =E41 -> 1
A42: Dividendos | B42: =1-B41 -> 0 | C42: =1-C41 -> 0 | D42: =1-D41 -> 0 | E42: =1-E41 -> 0 | F42: =1-F41 -> 0
A46: =DATE(B13,1,8) -> 46030 | B46: =TEXT(A46,"mmmm") -> enero
A47: =A46+30 -> 46060 | B47: =TEXT(A47,"mmmm") -> febrero
A48: =A47+30 -> 46090 | B48: =TEXT(A48,"mmmm") -> marzo
A49: =A48+30 -> 46120 | B49: =TEXT(A49,"mmmm") -> abril
A50: =A49+30 -> 46150 | B50: =TEXT(A50,"mmmm") -> mayo
A51: =A50+30 -> 46180 | B51: =TEXT(A51,"mmmm") -> junio
A52: =A51+30 -> 46210 | B52: =TEXT(A52,"mmmm") -> julio
A53: =A52+30 -> 46240 | B53: =TEXT(A53,"mmmm") -> agosto
A54: =A53+30 -> 46270 | B54: =TEXT(A54,"mmmm") -> septiembre
A55: =A54+30 -> 46300 | B55: =TEXT(A55,"mmmm") -> octubre
A56: =A55+30 -> 46330 | B56: =TEXT(A56,"mmmm") -> noviembre | D56: Generación de los 12 meses del año para compatibilidad con sistemas Linux y Windows en otros idiomas.
...

Sheet Amortizaciones
A1: Cuadro de Amortizaciones Contables
A2: ='Datos Básicos'!B8 -> 0
A6: INVERSIONES EN ACTIVOS NO CORRIENTES | B6: Inversión | C6: Amortización Acumulada | D6: plazo medio de | E6: % amortización | F6: Cuota anual amortización | G6: Cuota anual amortización | H6: Cuota anual amortización | I6: Cuota anual amortización | J6: Cuota anual amortización
B7: Inicial | C7: Previa | D7: amortización | E7: anual | F7: ='Datos Básicos'!B17 -> 2026 | G7: ='Datos Básicos'!C17 -> 2027 | H7: ='Datos Básicos'!D17 -> 2028 | I7: =H7+1 -> 2029 | J7: =I7+1 -> 2030
A8: Inmovilizado Material | B8: =SUM(B9:B17) -> 0 | C8: =SUM(C9:C17) -> 0 | F8: =SUM(F10:F17) -> 0 | G8: =SUM(G10:G17) -> 0 | H8: =SUM(H10:H17) -> 0 | I8: =SUM(I10:I17) -> 0 | J8: =SUM(J10:J17) -> 0
A9: Terrenos y solares | B9: ='Inv. Iniciales ANC'!B7 -> 0
A10: Edificaciones | B10: ='Inv. Iniciales ANC'!B10-B9 -> 0 | C10: ='Inv. Iniciales ANC'!E10 -> 0 | D10: ='Inv. Iniciales ANC'!D10 -> 25 | E10: =1/D10 -> 0.04 | F10: =IF(B10-C10>B10/D10/12*(12+1-mes0),B10/D10/12*(12+1-mes0),IF(B10=C10/12*(12+1-mes0),0,B10-C10)) -> 0 | G10: =IF(B10-C10-$F10>B10/D10,B10/D10,IF(B10=C10+$F10,0,B10-C10-$F10)) -> 0 | H10: =IF($B10-SUM($C10,$F10:G10)>$B10/$D10,$B10/$D10,IF($B10=SUM($C10,$F10:G10),0,$B10-SUM($C10,$F10:G10))) -> 0 | I10: =IF($B10-SUM($C10,$F10:H10)>$B10/$D10,$B10/$D10,IF($B10=SUM($C10,$F10:H10),0,$B10-SUM($C10,$F10:H10))) -> 0 | J10: =IF($B10-SUM($C10,$F10:I10)>$B10/$D10,$B10/$D10,IF($B10=SUM($C10,$F10:I10),0,$B10-SUM($C10,$F10:I10))) -> 0
A11: Instalaciones | B11: ='Inv. Iniciales ANC'!B19 -> 0 | C11: ='Inv. Iniciales ANC'!E19 -> 0 | D11: ='Inv. Iniciales ANC'!D19 -> 10 | E11: =1/D11 -> 0.1 | F11: =IF(B11-C11>B11/D11/12*(12+1-mes0),B11/D11/12*(12+1-mes0),IF(B11=C11/12*(12+1-mes0),0,B11-C11)) -> 0 | G11: =IF(B11-C11-$F11>B11/D11,B11/D11,IF(B11=C11+$F11,0,B11-C11-$F11)) -> 0 | H11: =IF($B11-SUM($C11,$F11:G11)>$B11/$D11,$B11/$D11,IF($B11=SUM($C11,$F11:G11),0,$B11-SUM($C11,$F11:G11))) -> 0 | I11: =IF($B11-SUM($C11,$F11:H11)>$B11/$D11,$B11/$D11,IF($B11=SUM($C11,$F11:H11),0,$B11-SUM($C11,$F11:H11))) -> 0 | J11: =IF($B11-SUM($C11,$F11:I11)>$B11/$D11,$B11/$D11,IF($B11=SUM($C11,$F11:I11),0,$B11-SUM($C11,$F11:I11))) -> 0
A12: Maquinaria | B12: ='Inv. Iniciales ANC'!B25 -> 0 | C12: ='Inv. Iniciales ANC'!E25 -> 0 | D12: ='Inv. Iniciales ANC'!D25 -> 10 | E12: =1/D12 -> 0.1 | F12: =IF(B12-C12>B12/D12/12*(12+1-mes0),B12/D12/12*(12+1-mes0),IF(B12=C12/12*(12+1-mes0),0,B12-C12)) -> 0 | G12: =IF(B12-C12-$F12>B12/D12,B12/D12,IF(B12=C12+$F12,0,B12-C12-$F12)) -> 0 | H12: =IF($B12-SUM($C12,$F12:G12)>$B12/$D12,$B12/$D12,IF($B12=SUM($C12,$F12:G12),0,$B12-SUM($C12,$F12:G12))) -> 0 | I12: =IF($B12-SUM($C12,$F12:H12)>$B12/$D12,$B12/$D12,IF($B12=SUM($C12,$F12:H12),0,$B12-SUM($C12,$F12:H12))) -> 0 | J12: =IF($B12-SUM($C12,$F12:I12)>$B12/$D12,$B12/$D12,IF($B12=SUM($C12,$F12:I12),0,$B12-SUM($C12,$F12:I12))) -> 0
A13: Utilllaje y herramientas | B13: ='Inv. Iniciales ANC'!B30 -> 0 | C13: ='Inv. Iniciales ANC'!E30 -> 0 | D13: ='Inv. Iniciales ANC'!D30 -> 10 | E13: =1/D13 -> 0.1 | F13: =IF(B13-C13>B13/D13/12*(12+1-mes0),B13/D13/12*(12+1-mes0),IF(B13=C13/12*(12+1-mes0),0,B13-C13)) -> 0 | G13: =IF(B13-C13-$F13>B13/D13,B13/D13,IF(B13=C13+$F13,0,B13-C13-$F13)) -> 0 | H13: =IF($B13-SUM($C13,$F13:G13)>$B13/$D13,$B13/$D13,IF($B13=SUM($C13,$F13:G13),0,$B13-SUM($C13,$F13:G13))) -> 0 | I13: =IF($B13-SUM($C13,$F13:H13)>$B13/$D13,$B13/$D13,IF($B13=SUM($C13,$F13:H13),0,$B13-SUM($C13,$F13:H13))) -> 0 | J13: =IF($B13-SUM($C13,$F13:I13)>$B13/$D13,$B13/$D13,IF($B13=SUM($C13,$F13:I13),0,$B13-SUM($C13,$F13:I13))) -> 0
A14: Mobiliario | B14: ='Inv. Iniciales ANC'!B36 -> 0 | C14: ='Inv. Iniciales ANC'!E36 -> 0 | D14: ='Inv. Iniciales ANC'!D36 -> 8 | E14: =1/D14 -> 0.125 | F14: =IF(B14-C14>B14/D14/12*(12+1-mes0),B14/D14/12*(12+1-mes0),IF(B14=C14/12*(12+1-mes0),0,B14-C14)) -> 0 | G14: =IF(B14-C14-$F14>B14/D14,B14/D14,IF(B14=C14+$F14,0,B14-C14-$F14)) -> 0 | H14: =IF($B14-SUM($C14,$F14:G14)>$B14/$D14,$B14/$D14,IF($B14=SUM($C14,$F14:G14),0,$B14-SUM($C14,$F14:G14))) -> 0 | I14: =IF($B14-SUM($C14,$F14:H14)>$B14/$D14,$B14/$D14,IF($B14=SUM($C14,$F14:H14),0,$B14-SUM($C14,$F14:H14))) -> 0 | J14: =IF($B14-SUM($C14,$F14:I14)>$B14/$D14,$B14/$D14,IF($B14=SUM($C14,$F14:I14),0,$B14-SUM($C14,$F14:I14))) -> 0
A15: Elementos de transporte | B15: ='Inv. Iniciales ANC'!B42 -> 0 | C15: ='Inv. Iniciales ANC'!E42 -> 0 | D15: ='Inv. Iniciales ANC'!D42 -> 8 | E15: =1/D15 -> 0.125 | F15: =IF(B15-C15>B15/D15/12*(12+1-mes0),B15/D15/12*(12+1-mes0),IF(B15=C15/12*(12+1-mes0),0,B15-C15)) -> 0 | G15: =IF(B15-C15-$F15>B15/D15,B15/D15,IF(B15=C15+$F15,0,B15-C15-$F15)) -> 0 | H15: =IF($B15-SUM($C15,$F15:G15)>$B15/$D15,$B15/$D15,IF($B15=SUM($C15,$F15:G15),0,$B15-SUM($C15,$F15:G15))) -> 0 | I15: =IF($B15-SUM($C15,$F15:H15)>$B15/$D15,$B15/$D15,IF($B15=SUM($C15,$F15:H15),0,$B15-SUM($C15,$F15:H15))) -> 0 | J15: =IF($B15-SUM($C15,$F15:I15)>$B15/$D15,$B15/$D15,IF($B15=SUM($C15,$F15:I15),0,$B15-SUM($C15,$F15:I15))) -> 0
A16: Equipos Informáticos / EPIs | B16: ='Inv. Iniciales ANC'!B49 -> 0 | C16: ='Inv. Iniciales ANC'!E49 -> 0 | D16: ='Inv. Iniciales ANC'!D49 -> 5 | E16: =1/D16 -> 0.2 | F16: =IF(B16-C16>B16/D16/12*(12+1-mes0),B16/D16/12*(12+1-mes0),IF(B16=C16/12*(12+1-mes0),0,B16-C16)) -> 0 | G16: =IF(B16-C16-$F16>B16/D16,B16/D16,IF(B16=C16+$F16,0,B16-C16-$F16)) -> 0 | H16: =IF($B16-SUM($C16,$F16:G16)>$B16/$D16,$B16/$D16,IF($B16=SUM($C16,$F16:G16),0,$B16-SUM($C16,$F16:G16))) -> 0 | I16: =IF($B16-SUM($C16,$F16:H16)>$B16/$D16,$B16/$D16,IF($B16=SUM($C16,$F16:H16),0,$B16-SUM($C16,$F16:H16))) -> 0 | J16: =IF($B16-SUM($C16,$F16:I16)>$B16/$D16,$B16/$D16,IF($B16=SUM($C16,$F16:I16),0,$B16-SUM($C16,$F16:I16))) -> 0
A17: Otros inmovilizados materiales | B17: ='Inv. Iniciales ANC'!B54 -> 0 | C17: ='Inv. Iniciales ANC'!E54 -> 0 | D17: ='Inv. Iniciales ANC'!D54 -> 5 | E17: =1/D17 -> 0.2 | F17: =IF(B17-C17>B17/D17/12*(12+1-mes0),B17/D17/12*(12+1-mes0),IF(B17=C17/12*(12+1-mes0),0,B17-C17)) -> 0 | G17: =IF(B17-C17-$F17>B17/D17,B17/D17,IF(B17=C17+$F17,0,B17-C17-$F17)) -> 0 | H17: =IF($B17-SUM($C17,$F17:G17)>$B17/$D17,$B17/$D17,IF($B17=SUM($C17,$F17:G17),0,$B17-SUM($C17,$F17:G17))) -> 0 | I17: =IF($B17-SUM($C17,$F17:H17)>$B17/$D17,$B17/$D17,IF($B17=SUM($C17,$F17:H17),0,$B17-SUM($C17,$F17:H17))) -> 0 | J17: =IF($B17-SUM($C17,$F17:I17)>$B17/$D17,$B17/$D17,IF($B17=SUM($C17,$F17:I17),0,$B17-SUM($C17,$F17:I17))) -> 0
A19: Inmovilizado Inmaterial | B19: ='Inv. Iniciales ANC'!B62 -> 0 | C19: ='Inv. Iniciales ANC'!E62 -> 0 | D19: ='Inv. Iniciales ANC'!D62 -> 3 | E19: =1/D19 -> 0.33333333 | F19: =IF(B19-C19>B19/D19/12*(12+1-mes0),B19/D19/12*(12+1-mes0),IF(B19=C19/12*(12+1-mes0),0,B19-C19)) -> 0 | G19: =IF(B19-C19-$F19>B19/D19,B19/D19,IF(B19=C19+$F19,0,B19-C19-$F19)) -> 0 | H19: =IF($B19-SUM($C19,$F19:G19)>$B19/$D19,$B19/$D19,IF($B19=SUM($C19,$F19:G19),0,$B19-SUM($C19,$F19:G19))) -> 0 | I19: =IF($B19-SUM($C19,$F19:H19)>$B19/$D19,$B19/$D19,IF($B19=SUM($C19,$F19:H19),0,$B19-SUM($C19,$F19:H19))) -> 0 | J19: =IF($B19-SUM($C19,$F19:I19)>$B19/$D19,$B19/$D19,IF($B19=SUM($C19,$F19:I19),0,$B19-SUM($C19,$F19:I19))) -> 0
A21: Totales | B21: =B8+B19 -> 0 | C21: =C8+C19 -> 0 | E21: Amortizaciones anuales | F21: =F8+F19 -> 0 | G21: =G8+G19 -> 0 | H21: =H8+H19 -> 0 | I21: =I8+I19 -> 0 | J21: =J8+J19 -> 0
C23: Vida útil ponderada prevista | D23: =SUMPRODUCT(B10:B19,D10:D19)/B21 -> #DIV/0! | E23: años

Sheet Inv. Iniciales ANC
A1: Inversiones Iniciales en Activos No Corrientes ( Fijos )
A2: ='Datos Básicos'!B8 -> 0
A6: Elementos / activos no corrientes | B6: Importe | C6: Años antigüedad | D6: plazo amort. | E6: amort. previa | G6: IVA soportado | I6: Aportado en Especie | J6: % Aport. especie
A7: Terrenos y solares | B7: 0 | C7: 0 | G7: =IF(E10=0,B7-I7,0)*Parametros!$F$33 -> 0 | I7: 0 | J7: =IF(B7*I7>0,I7/B7,0) -> 0
A8: Total valor obra construida | B8: 0 | C8: 0 | D8: 30 | E8: =IF(C8>D8,B8,B8*C8/D8) -> 0 | G8: =IF(E8=0,B8-I8,0)*Parametros!$F$33 -> 0 | I8: 0 | J8: =IF(B8*I8>0,I8/B8,0) -> 0
A9: Obras de Reforma / Adecuación local | B9: 0 | C9: 0 | D9: 20 | E9: =IF(C9>D9,B9,B9*C9/D9) -> 0 | G9: =IF(E9=0,B9-I9,0)*Parametros!$F$33 -> 0 | I9: 0 | J9: =IF(B9*I9>0,I9/B9,0) -> 0 | K9: =IF(I9>B9,"ERROR EN APORTACION EN ESPECIE","")
A10: Terrenos y edificaciones | B10: =SUM(B7:B9) -> 0 | C10: =IF($B10-B7=0,0,SUMPRODUCT($B8:$B9,C8:C9)/($B10-B7)) -> 0 | D10: =IF($B10-B7=0,AVERAGE(D8:D9),SUMPRODUCT($B8:$B9,D8:D9)/($B10-B7)) -> 25 | E10: =SUM(E8:E9) -> 0 | G10: =SUM(G7:G9) -> 0 | I10: =SUM(I7:I9) -> 0 | J10: =IF(B10>0,I10/B10,0) -> 0
A12: Instalaciones | B12: Importe | C12: antigüedad | D12: plazo amort. | E12: amort. previa | G12: IVA soportado | I12: Ap. Especie | J12: % especie
A13: Instalación eléctrica | B13: 0 | C13: 0 | D13: 10 | E13: =IF(C13>D13,B13,B13*C13/D13) -> 0 | G13: =IF(E13=0,B13-I13,0)*Parametros!$F$33 -> 0 | I13: 0 | J13: =IF(B13>0,I13/B13,0) -> 0 | K13: =IF(I13>B13,"ERROR EN APORTACION EN ESPECIE","")
A14: Agua y saneamiento | B14: 0 | C14: 0 | D14: 10 | E14: =IF(C14>D14,B14,B14*C14/D14) -> 0 | G14: =IF(E14=0,B14-I14,0)*Parametros!$F$33 -> 0 | I14: 0 | J14: =IF(B14>0,I14/B14,0) -> 0 | K14: =IF(I14>B14,"ERROR EN APORTACION EN ESPECIE","")
A15: Telecomunicaciones | B15: 0 | C15: 0 | D15: 10 | E15: =IF(C15>D15,B15,B15*C15/D15) -> 0 | G15: =IF(E15=0,B15-I15,0)*Parametros!$F$33 -> 0 | I15: 0 | J15: =IF(B15>0,I15/B15,0) -> 0 | K15: =IF(I15>B15,"ERROR EN APORTACION EN ESPECIE","")
A16: Iluminación | B16: 0 | C16: 0 | D16: 10 | E16: =IF(C16>D16,B16,B16*C16/D16) -> 0 | G16: =IF(E16=0,B16-I16,0)*Parametros!$F$33 -> 0 | I16: 0 | J16: =IF(B16>0,I16/B16,0) -> 0 | K16: =IF(I16>B16,"ERROR EN APORTACION EN ESPECIE","")
A17: Instalación contraincendios | B17: 0 | C17: 0 | D17: 10 | E17: =IF(C17>D17,B17,B17*C17/D17) -> 0 | G17: =IF(E17=0,B17-I17,0)*Parametros!$F$33 -> 0 | I17: 0 | J17: =IF(B17>0,I17/B17,0) -> 0 | K17: =IF(I17>B17,"ERROR EN APORTACION EN ESPECIE","")
A18: Alarmas e instalaciones de seguridad | B18: 0 | C18: 0 | D18: 10 | E18: =IF(C18>D18,B18,B18*C18/D18) -> 0 | G18: =IF(E18=0,B18-I18,0)*Parametros!$F$33 -> 0 | I18: 0 | J18: =IF(B18>0,I18/B18,0) -> 0 | K18: =IF(I18>B18,"ERROR EN APORTACION EN ESPECIE","")
A19: Instalaciones | B19: =SUM(B12:B18) -> 0 | C19: =IF($B19=0,0,SUMPRODUCT($B13:$B18,C13:C18)/$B19) -> 0 | D19: =IF($B19=0,AVERAGE(D13:D18),SUMPRODUCT($B13:$B18,D13:D18)/$B19) -> 10 | E19: =SUM(E13:E18) -> 0 | G19: =SUM(G13:G18) -> 0 | I19: =SUM(I13:I18) -> 0 | J19: =IF(B19>0,I19/B19,0) -> 0
A21: Maquinaria | B21: =B$12 -> Importe | C21: =C$12 -> antigüedad | D21: =D$12 -> plazo amort. | E21: =E$12 -> amort. previa | G21: =G$12 -> IVA soportado | I21: =I$12 -> Ap. Especie | J21: =J$12 -> % especie
A22: Máquina | B22: 0 | C22: 0 | D22: 10 | E22: =IF(C22>D22,B22,B22*C22/D22) -> 0 | G22: =IF(E22=0,B22-I22,0)*Parametros!$F$33 -> 0 | I22: 0 | J22: =IF(B22*I22>0,I22/B22,0) -> 0 | K22: =IF(I22>B22,"ERROR EN APORTACION EN ESPECIE","")
A23: Máquina | B23: 0 | C23: 0 | D23: 10 | E23: 0 | G23: =IF(E23=0,B23-I23,0)*Parametros!$F$33 -> 0 | I23: 0 | J23: =IF(B23*I23>0,I23/B23,0) -> 0 | K23: =IF(I23>B23,"ERROR EN APORTACION EN ESPECIE","")
A24: Máquina | B24: 0 | C24: 0 | D24: 10 | E24: =IF(C24>D24,B24,B24*C24/D24) -> 0 | G24: =IF(E24=0,B24-I24,0)*Parametros!$F$33 -> 0 | I24: 0 | J24: =IF(B24*I24>0,I24/B24,0) -> 0 | K24: =IF(I24>B24,"ERROR EN APORTACION EN ESPECIE","")
A25: Maquinaria | B25: =SUM(B22:B24) -> 0 | C25: =IF($B25=0,0,SUMPRODUCT($B22:$B24,C22:C24)/$B25) -> 0 | D25: =IF($B25=0,AVERAGE(D22:D24),SUMPRODUCT($B22:$B24,D22:D24)/$B25) -> 10 | E25: =SUM(E22:E24) -> 0 | G25: =SUM(G21:G24) -> 0 | I25: =SUM(I21:I24) -> 0 | J25: =IF(B25>0,I25/B25,0) -> 0
A27: Utillaje, Herramientas, ... | B27: =B$12 -> Importe | C27: =C$12 -> antigüedad | D27: =D$12 -> plazo amort. | E27: =E$12 -> amort. previa | G27: =G$12 -> IVA soportado | I27: =I$12 -> Ap. Especie | J27: =J$12 -> % especie
A28: Herramientas de mano | B28: 0 | C28: 0 | D28: 10 | E28: =IF(C28>D28,B28,B28*C28/D28) -> 0 | G28: =IF(E28=0,B28-I28,0)*Parametros!$F$33 -> 0 | I28: 0 | J28: =IF(B28*I28>0,I28/B28,0) -> 0 | K28: =IF(I28>B28,"ERROR EN APORTACION EN ESPECIE","")
A29: Utiles de fabricación | B29: 0 | C29: 0 | D29: 10 | E29: =IF(C29>D29,B29,B29*C29/D29) -> 0 | G29: =IF(E29=0,B29-I29,0)*Parametros!$F$33 -> 0 | I29: 0 | J29: =IF(B29*I29>0,I29/B29,0) -> 0 | K29: =IF(I29>B29,"ERROR EN APORTACION EN ESPECIE","")
A30: Utillaje y Herramienta | B30: =SUM(B27:B29) -> 0 | C30: =IF($B30=0,0,SUMPRODUCT($B27:$B29,C27:C29)/$B30) -> 0 | D30: =IF($B30=0,AVERAGE(D28:D29),SUMPRODUCT($B28:$B29,D28:D29)/$B30) -> 10 | E30: =SUM(E28:E29) -> 0 | G30: =SUM(G27:G29) -> 0 | I30: =SUM(I27:I29) -> 0 | J30: =IF(B30>0,I30/B30,0) -> 0
A32: Mobiliario | B32: =B$12 -> Importe | C32: =C$12 -> antigüedad | D32: =D$12 -> plazo amort. | E32: =E$12 -> amort. previa | G32: =G$12 -> IVA soportado | I32: =I$12 -> Ap. Especie | J32: =J$12 -> % especie
A33: Mobiliario oficina | B33: 0 | C33: 0 | D33: 8 | E33: =IF(C33>D33,B33,B33*C33/D33) -> 0 | G33: =IF(E33=0,B33-I33,0)*Parametros!$F$33 -> 0 | I33: 0 | J33: =IF(B33*I33>0,I33/B33,0) -> 0 | K33: =IF(I33>B33,"ERROR EN APORTACION EN ESPECIE","")
A34: Estanterías almacén, expositores | B34: 0 | C34: 0 | D34: 8 | E34: =IF(C34>D34,B34,B34*C34/D34) -> 0 | G34: =IF(E34=0,B34-I34,0)*Parametros!$F$33 -> 0 | I34: 0 | J34: =IF(B34*I34>0,I34/B34,0) -> 0 | K34: =IF(I34>B34,"ERROR EN APORTACION EN ESPECIE","")
A35: Otro mobiliario | B35: 0 | C35: 0 | D35: 8 | E35: =IF(C35>D35,B35,B35*C35/D35) -> 0 | G35: =IF(E35=0,B35-I35,0)*Parametros!$F$33 -> 0 | I35: 0 | J35: =IF(B35*I35>0,I35/B35,0) -> 0 | K35: =IF(I35>B35,"ERROR EN APORTACION EN ESPECIE","")
A36: Mobiliario | B36: =SUM(B32:B35) -> 0 | C36: =IF($B36=0,0,SUMPRODUCT($B33:$B35,C33:C35)/$B36) -> 0 | D36: =IF($B36=0,AVERAGE(D33:D35),SUMPRODUCT($B33:$B35,D33:D35)/$B36) -> 8 | E36: =SUM(E33:E35) -> 0 | G36: =SUM(G32:G35) -> 0 | I36: =SUM(I32:I35) -> 0 | J36: =IF(B36>0,I36/B36,0) -> 0
A38: Vehículos | B38: =B$12 -> Importe | C38: =C$12 -> antigüedad | D38: =D$12 -> plazo amort. | E38: =E$12 -> amort. previa | G38: =G$12 -> IVA soportado | I38: =I$12 -> Ap. Especie | J38: =J$12 -> % especie
A39: Elementos de transporte interior | B39: 0 | C39: 0 | D39: 8 | E39: =IF(C39>D39,B39,B39*C39/D39) -> 0 | G39: =IF(E39=0,B39-I39,0)*Parametros!$F$33 -> 0 | I39: 0 | J39: =IF(B39*I39>0,I39/B39,0) -> 0 | K39: =IF(I39>B39,"ERROR EN APORTACION EN ESPECIE","")
A40: Elementos de transporte exterior | B40: 0 | C40: 0 | D40: 8 | E40: =IF(C40>D40,B40,B40*C40/D40) -> 0 | G40: =IF(E40=0,B40-I40,0)*Parametros!$F$33 -> 0 | I40: 0 | J40: =IF(B40*I40>0,I40/B40,0) -> 0 | K40: =IF(I40>B40,"ERROR EN APORTACION EN ESPECIE","")
A41: Otros elementos de transporte | B41: 0 | C41: 0 | D41: 8 | E41: =IF(C41>D41,B41,B41*C41/D41) -> 0 | G41: =IF(E41=0,B41-I41,0)*Parametros!$F$33 -> 0 | I41: 0 | J41: =IF(B41*I41>0,I41/B41,0) -> 0 | K41: =IF(I41>B41,"ERROR EN APORTACION EN ESPECIE","")
A42: Elementos de transporte | B42: =SUM(B38:B41) -> 0 | C42: =IF($B42=0,0,SUMPRODUCT($B38:$B41,C38:C41)/$B42) -> 0 | D42: =IF($B42=0,AVERAGE(D39:D41),SUMPRODUCT($B39:$B41,D39:D41)/$B42) -> 8 | E42: =SUM(E39:E41) -> 0 | G42: =SUM(G38:G41) -> 0 | I42: =SUM(I38:I41) -> 0 | J42: =IF(B42>0,I42/B42,0) -> 0
A44: Equipos informáticos / EPIs | B44: =B$12 -> Importe | C44: =C$12 -> antigüedad | D44: =D$12 -> plazo amort. | E44: =E$12 -> amort. previa | G44: =G$12 -> IVA soportado | I44: =I$12 -> Ap. Especie | J44: =J$12 -> % especie
A45: Ordenadores, PDAs, etc. | B45: 0 | C45: 0 | D45: 5 | E45: =IF(C45>D45,B45,B45*C45/D45) -> 0 | G45: =IF(E45=0,B45-I45,0)*Parametros!$F$33 -> 0 | I45: 0 | J45: =IF(B45*I45>0,I45/B45,0) -> 0 | K45: =IF(I45>B45,"ERROR EN APORTACION EN ESPECIE","")
A46: Terminales Punto de Venta | B46: 0 | C46: 0 | D46: 5 | E46: =IF(C46>D46,B46,B46*C46/D46) -> 0 | G46: =IF(E46=0,B46-I46,0)*Parametros!$F$33 -> 0 | I46: 0 | J46: =IF(B46*I46>0,I46/B46,0) -> 0 | K46: =IF(I46>B46,"ERROR EN APORTACION EN ESPECIE","")
A47: Impresoras y fotocopiadoras | B47: 0 | C47: 0 | D47: 5 | E47: =IF(C47>D47,B47,B47*C47/D47) -> 0 | G47: =IF(E47=0,B47-I47,0)*Parametros!$F$33 -> 0 | I47: 0 | J47: =IF(B47*I47>0,I47/B47,0) -> 0 | K47: =IF(I47>B47,"ERROR EN APORTACION EN ESPECIE","")
A48: Centralitas, enrutadores, red local | B48: 0 | C48: 0 | D48: 5 | E48: =IF(C48>D48,B48,B48*C48/D48) -> 0 | G48: =IF(E48=0,B48-I48,0)*Parametros!$F$33 -> 0 | I48: 0 | J48: =IF(B48*I48>0,I48/B48,0) -> 0 | K48: =IF(I48>B48,"ERROR EN APORTACION EN ESPECIE","")
A49: Equipos Tratamiento Información | B49: =SUM(B44:B48) -> 0 | C49: =IF($B49=0,0,SUMPRODUCT($B45:$B48,C45:C48)/$B49) -> 0 | D49: =IF($B49=0,AVERAGE(D45:D48),SUMPRODUCT($B45:$B48,D45:D48)/$B49) -> 5 | E49: =SUM(E45:E48) -> 0 | G49: =SUM(G44:G48) -> 0 | I49: =SUM(I44:I48) -> 0 | J49: =IF(B49>0,I49/B49,0) -> 0
...

Sheet Inversiones AC
A1: Inversiones en Activos Corrientes
A2: ='Datos Básicos'!B8 -> 0
B6: Inversión Inicial
A7: Inmovilizado financiero Corto Plazo | B7: =B8 -> 0
A8: Fianzas a corto plazo | B8: 0
A10: Existencias Iniciales | B10: =SUM(B11:B14) -> 0 | C10: tipo IVA | D10: en especie
A11: materias primas | B11: 0 | C11: 0.21 | D11: 0
A12: mercaderías | B12: 0 | C12: 0 | D12: 0
A13: otros aprovisionamientos | B13: 0 | C13: 0 | D13: 0
A14: Almacén final del ejercicio anterior | B14: 0
A16: Realizable | B16: =SUM(B17:B19) -> 0
A17: IVA soportado de inversiones iniciales | B17: =+'Inv. Iniciales ANC'!G10+'Inv. Iniciales ANC'!G19+'Inv. Iniciales ANC'!G25+'Inv. Iniciales ANC'!G30+'Inv. Iniciales ANC'!G36+'Inv. Iniciales ANC'!G42+'Inv. Iniciales ANC'!G49+'Inv. Iniciales ANC'!G54+'Inv. Iniciales ANC'!G62+'Inv. Iniciales ANC'!G76+'Inv. Iniciales ANC'!G69 +SUMPRODUCT(B11:B13,C11:C13)-SUMPRODUCT(B11:B13,D11:D13) -Parametros!$F$33*SUM('Financiación Inicial'!F15:G15) -> 0
A18: IVA soportado pend. de devolución | B18: 0
A19: Clientes | B19: 0
A21: Tesorería inicial / Disponible | B21: ='Financiación Inicial'!B30 -Amortizaciones!B21+Amortizaciones!C21 -'Inv. Iniciales ANC'!B81 -B7-B10-B16 -> 0
A23: Total Inv. Inicial Activo Corriente | B23: =B7+B10+B16+B21 -> 0
A25: =IF(B25<>"","Incrementar financiación inicial","") -> Incrementar financiación inicial | B25: =IF(B21-tesoreriasec<-0.5,TEXT(tesoreriasec-B21,"#.##0 ")&"€ de déficit de Financiación","") -> 2.000 € de déficit de Financiación
B26: =IF(B25<>"","Tesorería de seguridad: "&TEXT(tesoreriasec,"#.##0 €")&" mínimo.","") -> Tesorería de seguridad: 2.000 € mínimo.

Sheet Financiación Inicial
A1: Financiación Inicial
A2: ='Datos Básicos'!B8 -> 0 | E2: Inversión en ANC | F2: =IF(('Inv. Iniciales ANC'!B10+'Inv. Iniciales ANC'!B19+'Inv. Iniciales ANC'!B25+'Inv. Iniciales ANC'!B30+'Inv. Iniciales ANC'!B36+'Inv. Iniciales ANC'!B42+'Inv. Iniciales ANC'!B49+'Inv. Iniciales ANC'!B54+'Inv. Iniciales ANC'!B62+'Inv. Iniciales ANC'!B69+'Inv. Iniciales ANC'!B76+'Inv. Iniciales ANC'!B81)>0,'Inv. Iniciales ANC'!B10+'Inv. Iniciales ANC'!B19+'Inv. Iniciales ANC'!B25+'Inv. Iniciales ANC'!B30+'Inv. Iniciales ANC'!B36+'Inv. Iniciales ANC'!B42+'Inv. Iniciales ANC'!B49+'Inv. Iniciales ANC'!B54+'Inv. Iniciales ANC'!B62+'Inv. Iniciales ANC'!B69+'Inv. Iniciales ANC'!B76+'Inv. Iniciales ANC'!B81,0) -> 0
E3: Inversión en AC | F3: ='Inversiones AC'!B10 -> 0
E4: Total de la Inversión | F4: =F2+F3 -> 0
A6: Financiación de la Inversión Inicial | B6: Importe | C6: % | E6: Datos Préstamos | F6: Préstamo 1 | G6: Microcrédito
A7: Patrimonio Neto ( Recursos Propios ) | B7: =SUM(B8:B14) -> 0 | C7: =IF(B$30=0,"",B7/$B$30) | E7: Principales | F7: 0 | G7: 0
A8: ='Balances anuales'!A26&" (aportaciones dinerarias)" -> Fondo Social (aportaciones dinerarias) | B8: 0 | C8: =IF(B$30=0,"",B8/$B$30) | E8: Interés nominal | F8: 0.069 | G8: 0.0825
A9: ='Balances anuales'!A26&" (aportaciones no dinerarias)" -> Fondo Social (aportaciones no dinerarias) | B9: =+'Inv. Iniciales ANC'!I10+'Inv. Iniciales ANC'!I19+'Inv. Iniciales ANC'!I25+'Inv. Iniciales ANC'!I30+'Inv. Iniciales ANC'!I36+'Inv. Iniciales ANC'!I42+'Inv. Iniciales ANC'!I49+'Inv. Iniciales ANC'!I54+'Inv. Iniciales ANC'!I62 -> 0 | C9: =IF(B$30=0,"",B9/$B$30) | E9: Gastos iniciales | F9: 0 | G9: 0.0001
A10: Gastos de constitución | B10: =-'Inv. Iniciales ANC'!B69 -> 0 | C10: =IF(B$30=0,"",B10/$B$30) | E10: nº total de pagos | F10: 72 | G10: 60
A11: Resultados anteriores (Reservas) | B11: 0 | C11: =IF(B$30=0,"",B11/$B$30) | E11: Nº pagos por año | F11: 12 | G11: 12
A12: Pérdidas acumuladas anteriores | B12: 0 | C12: =IF(B$30=0,"",B12/$B$30) | E12: periodos de carencia | F12: 12 | G12: 0
A13: Créditos de los socios | B13: 0 | C13: =IF(B$30=0,"",B13/$B$30)
A14: Subvenciones | B14: =F34 -> 0 | C14: =IF(B$30=0,"",B14/$B$30) | E14: Datos Leasing | F14: Leasing 1 | G14: Leasing 2
E15: Principales | F15: 0 | G15: 0 | H15: =IF(SUM(F15:G15)>'Balances anuales'!B7,"ERROR: Los arrendamientos Financieros superan a la Inversión en Activos No Corrientes (ANC)","")
A16: Pasivos Ajenos | B16: =B17+B22 -> 0 | C16: =IF(B$30=0,"",B16/$B$30) | E16: Valores residuales | F16: 0 | G16: 0 | H16: =IF(OR(F16>F15/2,G16>G15/2),"ERROR: Los valores residuales no pueden superar el 50% del nominal","")
A17: Créditos Largo Plazo | B17: =SUM(B18:B20) -> 0 | C17: =IF(B$30=0,"",B17/$B$30) | E17: Interés nominal | F17: 0.055 | G17: 0.07
A18: Acreedores L.P. Financieros Préstamos | B18: =F7+G7-B23 -> 0 | C18: =IF(B$30=0,"",B18/$B$30) | E18: Gastos iniciales | F18: 0 | G18: 0
A19: Acreedores L.P. Financieros Leasing | B19: =+F15-F16+G15-G16-B24 -> 0 | C19: =IF(B$30=0,"",B19/$B$30) | E19: nº total de pagos | F19: 36 | G19: 60
A20: Otros Acreedores L.P. | B20: 0 | C20: =IF(B$30=0,"",B20/$B$30) | E20: Nº pagos por año | F20: 12 | G20: 12
E21: Cuotas | F21: =PMT(F17/F20,F19,-F15) -> 0 | G21: =PMT(G17/G20,G19,-G15) -> 0
A22: Créditos a Corto Plazo | B22: =SUM(B23:B28) -> 0 | C22: =IF(B$30=0,"",B22/$B$30)
A23: Acreedores C.P. Financieros Préstamos | B23: =Préstamos!N20 -> 0 | C23: =IF(B$30=0,"",B23/$B$30) | E23: Datos Renting | F23: Renting 1 | G23: Renting 2
A24: Acreedores C.P. Financieros Leasing | B24: =+Leasing!N22 -> 0 | C24: =IF(B$30=0,"",B24/$B$30) | E24: Principal | F24: 0 | G24: 0
A25: Dispuesto crédito mes ant. al 0 | B25: 0 | C25: =IF(B$30=0,"",B25/$B$30) | E25: Tipo nominal | F25: 0.08 | G25: 0.1
A26: Proveedores | B26: 0 | C26: =IF(B$30=0,"",B26/$B$30) | E26: Gastos iniciales | F26: 0.005 | G26: 0.01
A27: IVA pendiente de pago a Hacienda | B27: 0 | C27: =IF(B$30=0,"",B27/$B$30) | E27: Nº total de pagos | F27: 24 | G27: 36
A28: Otros Acreedores C.P. | B28: ='Datos Gastos Fijos'!C30*'Datos Gastos Fijos'!B23 -> 0 | C28: =IF(B$30=0,"",B28/$B$30) | E28: Nº pagos por año | F28: 6 | G28: 12
E29: Valor residual | F29: 0 | G29: 0 | H29: =IF(OR(F29>F24/2,G29>G24/2),"ERROR: Los valores residuales no pueden superar el 50% del nominal","")
A30: Total Fuentes de Financiación | B30: =B16+B7 -> 0 | C30: =IF(B$30=0,"",B30/$B$30) | E30: Cuotas | F30: =PMT(F25/F28,F27,-F24) -> 0 | G30: =PMT(G25/G28,G27,-G24) -> 0
B32: =IF('Inversiones AC'!B21-tesoreriasec<-0.5,TEXT(tesoreriasec-'Inversiones AC'!B21,"#.##0")&" de déficit de Financiación","") -> 2.000 de déficit de Financiación | E32: =CONCATENATE("Incentivo: ",Incentivos!C7) -> Incentivo: Fomento del Empleo Asociado
B33: =IF(B32<>"","Incrementar financiación inicial","") -> Incrementar financiación inicial
B34: =IF('Balances anuales'!B50="",""," DESCUADRE EN BALANCE INICIAL") | E34: Importe | F34: =IF('Datos Básicos'!I13="SI",Incentivos!E84,0) -> 0 | G34: =Parametros!$G$6 -> €
B35: =IF(B34="","",'Balances anuales'!B23-'Balances anuales'!B46) | E35: Período | F35: 5 | G35: años
E36: Escenario Incentivos | F36: ='Datos Básicos'!I13 -> NO

Sheet Incentivos
A1: Incentivos a la inversión
A2: ='Datos Básicos'!B8 -> 0
C6: Tipo de incentivo :
C7: Fomento del Empleo Asociado
A10: Elementos / Activos No Corrientes | B10: Importes invertidos | C10: Importes incentivables | D10: % incentivable | E10: Incentivo
A11: ='Inv. Iniciales ANC'!A7 -> Terrenos y solares | B11: 0 | C11: =IF(B11/SUM(B11,C12,C13,C23,C29,C34,C40,C46,C53,C58,C66,C73,C80)<10%,B11,SUM(C12,C13,C23,C29,C34,C40,C46,C53,C58,C66,C73,C80)*10%/(1-10%)) -> #DIV/0! | D11: 0.8 | E11: =C11*D11 -> #DIV/0! | G11: máximo 10% Base incentivable | J11: Pago único
A12: ='Inv. Iniciales ANC'!A8 -> Total valor obra construida | B12: ='Inv. Iniciales ANC'!B8 -> 0 | C12: =B12 -> 0 | D12: 0.8 | E12: =C12*D12 -> 0 | J12: I + E
A13: ='Inv. Iniciales ANC'!A9 -> Obras de Reforma / Adecuación local | B13: ='Inv. Iniciales ANC'!B9 -> 0 | C13: =B13 -> 0 | D13: 0.8 | E13: =C13*D13 -> 0 | J13: Fomento del Empleo Asociado
A14: Terrenos y Edificaciones | B14: =SUM(B12:B13) -> 0 | C14: =SUM(C11:C13) -> #DIV/0! | D14: =IF($B14=0,AVERAGE(D10:D13),SUMPRODUCT($B10:$B13,D10:D13)/$B14) -> 0.8 | E14: =SUM(E11:E13) -> #DIV/0! | J14: Autoempleo
A16: Instalaciones | B16: Inversión | C16: incentivable | D16: =D10 -> % incentivable | E16: =E10 -> Incentivo
A17: ='Inv. Iniciales ANC'!A13 -> Instalación eléctrica | B17: ='Inv. Iniciales ANC'!B13 -> 0 | C17: =B17 -> 0 | D17: 0.8 | E17: =C17*D17 -> 0
A18: ='Inv. Iniciales ANC'!A14 -> Agua y saneamiento | B18: ='Inv. Iniciales ANC'!B14 -> 0 | C18: =B18 -> 0 | D18: 0.8 | E18: =C18*D18 -> 0
A19: ='Inv. Iniciales ANC'!A15 -> Telecomunicaciones | B19: ='Inv. Iniciales ANC'!B15 -> 0 | C19: =B19 -> 0 | D19: 0.8 | E19: =C19*D19 -> 0
A20: ='Inv. Iniciales ANC'!A16 -> Iluminación | B20: ='Inv. Iniciales ANC'!B16 -> 0 | C20: =B20 -> 0 | D20: 0.8 | E20: =C20*D20 -> 0
A21: ='Inv. Iniciales ANC'!A17 -> Instalación contraincendios | B21: ='Inv. Iniciales ANC'!B17 -> 0 | C21: =B21 -> 0 | D21: 0.8 | E21: =C21*D21 -> 0
A22: ='Inv. Iniciales ANC'!A18 -> Alarmas e instalaciones de seguridad | B22: ='Inv. Iniciales ANC'!B18 -> 0 | C22: =B22 -> 0 | D22: 0.8 | E22: =C22*D22 -> 0
A23: Instalaciones | B23: =SUM(B16:B22) -> 0 | C23: =SUM(C17:C22) -> 0 | D23: =IF($B23=0,AVERAGE(D19:D22),SUMPRODUCT($B19:$B22,D19:D22)/$B23) -> 0.8 | E23: =SUM(E17:E22) -> 0
A25: Maquinaria | B25: =B$16 -> Inversión | C25: =C$16 -> incentivable | D25: =D$16 -> % incentivable | E25: =E$16 -> Incentivo | G25: Solo maquinaria nueva,
A26: ='Inv. Iniciales ANC'!A22 -> Máquina | B26: ='Inv. Iniciales ANC'!B22 -> 0 | C26: =IF('Inv. Iniciales ANC'!C22+'Inv. Iniciales ANC'!E22+'Inv. Iniciales ANC'!I22>0,0,B26) -> 0 | D26: 0.8 | E26: =C26*D26 -> 0 | G26: No amortizada previamente.
A27: ='Inv. Iniciales ANC'!A23 -> Máquina | B27: ='Inv. Iniciales ANC'!B23 -> 0 | C27: =IF('Inv. Iniciales ANC'!C23+'Inv. Iniciales ANC'!E23+'Inv. Iniciales ANC'!I23>0,0,B27) -> 0 | D27: 0.8 | E27: =C27*D27 -> 0 | G27: No aportada en especie
A28: ='Inv. Iniciales ANC'!A24 -> Máquina | B28: ='Inv. Iniciales ANC'!B24 -> 0 | C28: =IF('Inv. Iniciales ANC'!C24+'Inv. Iniciales ANC'!E24+'Inv. Iniciales ANC'!I24>0,0,B28) -> 0 | D28: 0.8 | E28: =C28*D28 -> 0
A29: Maquinaria | B29: =SUM(B25:B28) -> 0 | C29: =SUM(C26:C28) -> 0 | D29: =IF($B29=0,AVERAGE(D25:D28),SUMPRODUCT($B25:$B28,D25:D28)/$B29) -> 0.8 | E29: =SUM(E26:E28) -> 0
A31: Utillaje, Herramientas, ... | B31: =B$16 -> Inversión | C31: =C$16 -> incentivable | D31: =D$16 -> % incentivable | E31: =E$16 -> Incentivo
A32: ='Inv. Iniciales ANC'!A28 -> Herramientas de mano | B32: ='Inv. Iniciales ANC'!B28 -> 0 | C32: =IF('Inv. Iniciales ANC'!C28+'Inv. Iniciales ANC'!E28+'Inv. Iniciales ANC'!I28>0,0,B32) -> 0 | D32: 0.8 | E32: =C32*D32 -> 0 | G32: Solo elementos nuevos
A33: ='Inv. Iniciales ANC'!A29 -> Utiles de fabricación | B33: ='Inv. Iniciales ANC'!B29 -> 0 | C33: =IF('Inv. Iniciales ANC'!C29+'Inv. Iniciales ANC'!E29+'Inv. Iniciales ANC'!I29>0,0,B33) -> 0 | D33: 0.8 | E33: =C33*D33 -> 0
A34: Utillaje y Herramienta | B34: =SUM(B31:B33) -> 0 | C34: =SUM(C32:C33) -> 0 | D34: =IF($B34=0,AVERAGE(D30:D33),SUMPRODUCT($B30:$B33,D30:D33)/$B34) -> 0.8 | E34: =SUM(E32:E33) -> 0
A36: Mobiliario | B36: =B$16 -> Inversión | C36: =C$16 -> incentivable | D36: =D$16 -> % incentivable | E36: =E$16 -> Incentivo | G36: Solo elementos nuevos
A37: ='Inv. Iniciales ANC'!A33 -> Mobiliario oficina | B37: ='Inv. Iniciales ANC'!B33 -> 0 | C37: =IF('Inv. Iniciales ANC'!C33+'Inv. Iniciales ANC'!E33+'Inv. Iniciales ANC'!I33>0,0,B37) -> 0 | D37: 0.8 | E37: =C37*D37 -> 0
A38: ='Inv. Iniciales ANC'!A34 -> Estanterías almacén, expositores | B38: ='Inv. Iniciales ANC'!B34 -> 0 | C38: =IF('Inv. Iniciales ANC'!C34+'Inv. Iniciales ANC'!E34+'Inv. Iniciales ANC'!I34>0,0,B38) -> 0 | D38: 0.8 | E38: =C38*D38 -> 0
A39: ='Inv. Iniciales ANC'!A35 -> Otro mobiliario | B39: ='Inv. Iniciales ANC'!B35 -> 0 | C39: =IF('Inv. Iniciales ANC'!C35+'Inv. Iniciales ANC'!E35+'Inv. Iniciales ANC'!I35>0,0,B39) -> 0 | D39: 0.8 | E39: =C39*D39 -> 0
A40: Mobiliario | B40: =SUM(B36:B39) -> 0 | C40: =SUM(C37:C39) -> 0 | D40: =IF($B40=0,AVERAGE(D36:D39),SUMPRODUCT($B36:$B39,D36:D39)/$B40) -> 0.8 | E40: =SUM(E37:E39) -> 0
A42: Vehículos | B42: =B$16 -> Inversión | C42: =C$16 -> incentivable | D42: =D$16 -> % incentivable | E42: =E$16 -> Incentivo | G42: Solo elementos nuevos
A43: ='Inv. Iniciales ANC'!A39 -> Elementos de transporte interior | B43: ='Inv. Iniciales ANC'!B39 -> 0 | C43: =IF('Inv. Iniciales ANC'!C39+'Inv. Iniciales ANC'!E39+'Inv. Iniciales ANC'!I39>0,0,B43) -> 0 | D43: 0.8 | E43: =C43*D43 -> 0
A44: ='Inv. Iniciales ANC'!A40 -> Elementos de transporte exterior | B44: ='Inv. Iniciales ANC'!B40 -> 0 | C44: =IF('Inv. Iniciales ANC'!C40+'Inv. Iniciales ANC'!E40+'Inv. Iniciales ANC'!I40>0,0,B44) -> 0 | D44: 0.8 | E44: =C44*D44 -> 0
A45: ='Inv. Iniciales ANC'!A41 -> Otros elementos de transporte | B45: ='Inv. Iniciales ANC'!B41 -> 0 | C45: =IF('Inv. Iniciales ANC'!C41+'Inv. Iniciales ANC'!E41+'Inv. Iniciales ANC'!I41>0,0,B45) -> 0 | D45: 0.8 | E45: =C45*D45 -> 0
A46: Elementos de transporte | B46: =SUM(B42:B45) -> 0 | C46: =SUM(C43:C45) -> 0 | D46: =IF($B46=0,AVERAGE(D42:D45),SUMPRODUCT($B42:$B45,D42:D45)/$B46) -> 0.8 | E46: =SUM(E43:E45) -> 0
A48: Equipos informáticos | B48: =B$16 -> Inversión | C48: =C$16 -> incentivable | D48: =D$16 -> % incentivable | E48: =E$16 -> Incentivo | G48: Solo elementos nuevos
A49: ='Inv. Iniciales ANC'!A45 -> Ordenadores, PDAs, etc. | B49: ='Inv. Iniciales ANC'!B45 -> 0 | C49: =IF('Inv. Iniciales ANC'!C45+'Inv. Iniciales ANC'!E45+'Inv. Iniciales ANC'!I45>0,0,B49) -> 0 | D49: 0.8 | E49: =C49*D49 -> 0
A50: ='Inv. Iniciales ANC'!A46 -> Terminales Punto de Venta | B50: ='Inv. Iniciales ANC'!B46 -> 0 | C50: =IF('Inv. Iniciales ANC'!C46+'Inv. Iniciales ANC'!E46+'Inv. Iniciales ANC'!I46>0,0,B50) -> 0 | D50: 0.8 | E50: =C50*D50 -> 0
A51: ='Inv. Iniciales ANC'!A47 -> Impresoras y fotocopiadoras | B51: ='Inv. Iniciales ANC'!B47 -> 0 | C51: =IF('Inv. Iniciales ANC'!C47+'Inv. Iniciales ANC'!E47+'Inv. Iniciales ANC'!I47>0,0,B51) -> 0 | D51: 0.8 | E51: =C51*D51 -> 0
...

Sheet Préstamos
A1: Cálculo detallados de pagos de Préstamos
A2: ='Datos Básicos'!B8 -> 0
A5: Datos préstamos | B5: ='Financiación Inicial'!F6 -> Préstamo 1 | C5: ='Financiación Inicial'!G6 -> Microcrédito | E5: Otros Datos | G5: =B5 -> Préstamo 1 | H5: =C5 -> Microcrédito | J5: Nº de pagos por año
A6: Principales | B6: ='Financiación Inicial'!F7 -> 0 | C6: ='Financiación Inicial'!G7 -> 0 | F6: meses carencia | G6: =B11*12/B10 -> 12 | H6: =C11*12/C10 -> 0 | J6: año 1 | K6: =IF(H10<13,H10+1-H9,13-H9) -> 12
A7: Interés nominal | B7: ='Financiación Inicial'!F8 -> 0.069 | C7: ='Financiación Inicial'!G8 -> 0.0825 | F7: meses préstamo | G7: =B9*12/B10 -> 72 | H7: =C9*12/C10 -> 60 | J7: año 2 | K7: =IF(H10<13,0,IF(H10<25,H7-K6,12)) -> 12
A8: Gastos iniciales | B8: ='Financiación Inicial'!F9 -> 0 | C8: ='Financiación Inicial'!G9 -> 0.0001 | F8: 1er mes carencia | G8: =mes0 -> 1 | H8: =mes0 -> 1 | J8: año 3 | K8: =IF(H10<25,0,IF(H10<36,H7-K6-K7,12)) -> 12
A9: nº total de pagos | B9: ='Financiación Inicial'!F10 -> 72 | C9: ='Financiación Inicial'!G10 -> 60 | F9: 1er mes préstamo | G9: =mes0+G6 -> 13 | H9: =mes0+H6 -> 1
A10: Nº pagos por año | B10: ='Financiación Inicial'!F11 -> 12 | C10: ='Financiación Inicial'!G11 -> 12 | F10: mes final préstamo | G10: =G7+G9-1 -> 84 | H10: =H7+H9-1 -> 60
A11: periodos de carencia | B11: ='Financiación Inicial'!F12 -> 12 | C11: ='Financiación Inicial'!G12 -> 0
A13: Pago periódico | B13: =PMT(B7/B10,B9,-B6) -> 0 | C13: =PMT(C7/C10,C9,-C6) -> 0 | E13: =IF('Inversiones AC'!B21<-0.5,'Inversiones AC'!B25,"")
B14: =CONCATENATE("€ / ",IF(B10=12,"mes",CONCATENATE(12/B10," meses"))) -> € / mes | C14: =CONCATENATE("€ / ",IF(C10=12,"mes",CONCATENATE(12/C10," meses"))) -> € / mes
A16: ='Datos Básicos'!B16 -> Año 0 | B16: ='Datos Básicos'!B17 -> 2026
A17: Periodos | B17: 1 | C17: 2 | D17: 3 | E17: 4 | F17: 5 | G17: 6 | H17: 7 | I17: 8 | J17: 9 | K17: 10 | L17: 11 | M17: 12 | N17: Total
A18: Pagos | B18: =B19+B20 -> 0 | C18: =C19+C20 -> 0 | D18: =D19+D20 -> 0 | E18: =E19+E20 -> 0 | F18: =F19+F20 -> 0 | G18: =G19+G20 -> 0 | H18: =H19+H20 -> 0 | I18: =I19+I20 -> 0 | ... M18: =M19+M20 -> 0 | N18: =SUM(B18:M18) -> 0
A19: Intereses | B19: =IF(B17=$G$8,$B$6*$B$8,0)+IF(B17=$H$8,$C$6*$C$8,0) +IF(MOD((B17-$G$8)*$B$10,12),0,IF(B17<$G$8,0,IF(B17<$G$9,$B$6*$B$7/$B$10,IF(B17<=$G$10,IPMT($B$7/$B$10,(B17-$G$8)*$B$10/12-$B$11+1,$B$9,-$B$6),0)))) +IF(MOD((B17-$H$8)*$C$10,12),0,IF(B17<$H$8,0,IF(B17<$H$9,$C$6*$C$7/$C$10,IF(B17<=$H$10,IPMT($C$7/$C$10,(B17-$H$8)*$C$10/12-$C$11+1,$C$9,-$C$6),0)))) -> 0 | C19: =IF(C17=$G$8,$B$6*$B$8,0)+IF(C17=$H$8,$C$6*$C$8,0) +IF(MOD((C17-$G$8)*$B$10,12),0,IF(C17<$G$8,0,IF(C17<$G$9,$B$6*$B$7/$B$10,IF(C17<=$G$10,IPMT($B$7/$B$10,(C17-$G$8)*$B$10/12-$B$11+1,$B$9,-$B$6),0)))) +IF(MOD((C17-$H$8)*$C$10,12),0,IF(C17<$H$8,0,IF(C17<$H$9,$C$6*$C$7/$C$10,IF(C17<=$H$10,IPMT($C$7/$C$10,(C17-$H$8)*$C$10/12-$C$11+1,$C$9,-$C$6),0)))) -> 0 | D19: =IF(D17=$G$8,$B$6*$B$8,0)+IF(D17=$H$8,$C$6*$C$8,0) +IF(MOD((D17-$G$8)*$B$10,12),0,IF(D17<$G$8,0,IF(D17<$G$9,$B$6*$B$7/$B$10,IF(D17<=$G$10,IPMT($B$7/$B$10,(D17-$G$8)*$B$10/12-$B$11+1,$B$9,-$B$6),0)))) +IF(MOD((D17-$H$8)*$C$10,12),0,IF(D17<$H$8,0,IF(D17<$H$9,$C$6*$C$7/$C$10,IF(D17<=$H$10,IPMT($C$7/$C$10,(D17-$H$8)*$C$10/12-$C$11+1,$C$9,-$C$6),0)))) -> 0 | E19: =IF(E17=$G$8,$B$6*$B$8,0)+IF(E17=$H$8,$C$6*$C$8,0) +IF(MOD((E17-$G$8)*$B$10,12),0,IF(E17<$G$8,0,IF(E17<$G$9,$B$6*$B$7/$B$10,IF(E17<=$G$10,IPMT($B$7/$B$10,(E17-$G$8)*$B$10/12-$B$11+1,$B$9,-$B$6),0)))) +IF(MOD((E17-$H$8)*$C$10,12),0,IF(E17<$H$8,0,IF(E17<$H$9,$C$6*$C$7/$C$10,IF(E17<=$H$10,IPMT($C$7/$C$10,(E17-$H$8)*$C$10/12-$C$11+1,$C$9,-$C$6),0)))) -> 0 | F19: =IF(F17=$G$8,$B$6*$B$8,0)+IF(F17=$H$8,$C$6*$C$8,0) +IF(MOD((F17-$G$8)*$B$10,12),0,IF(F17<$G$8,0,IF(F17<$G$9,$B$6*$B$7/$B$10,IF(F17<=$G$10,IPMT($B$7/$B$10,(F17-$G$8)*$B$10/12-$B$11+1,$B$9,-$B$6),0)))) +IF(MOD((F17-$H$8)*$C$10,12),0,IF(F17<$H$8,0,IF(F17<$H$9,$C$6*$C$7/$C$10,IF(F17<=$H$10,IPMT($C$7/$C$10,(F17-$H$8)*$C$10/12-$C$11+1,$C$9,-$C$6),0)))) -> 0 | G19: =IF(G17=$G$8,$B$6*$B$8,0)+IF(G17=$H$8,$C$6*$C$8,0) +IF(MOD((G17-$G$8)*$B$10,12),0,IF(G17<$G$8,0,IF(G17<$G$9,$B$6*$B$7/$B$10,IF(G17<=$G$10,IPMT($B$7/$B$10,(G17-$G$8)*$B$10/12-$B$11+1,$B$9,-$B$6),0)))) +IF(MOD((G17-$H$8)*$C$10,12),0,IF(G17<$H$8,0,IF(G17<$H$9,$C$6*$C$7/$C$10,IF(G17<=$H$10,IPMT($C$7/$C$10,(G17-$H$8)*$C$10/12-$C$11+1,$C$9,-$C$6),0)))) -> 0 | H19: =IF(H17=$G$8,$B$6*$B$8,0)+IF(H17=$H$8,$C$6*$C$8,0) +IF(MOD((H17-$G$8)*$B$10,12),0,IF(H17<$G$8,0,IF(H17<$G$9,$B$6*$B$7/$B$10,IF(H17<=$G$10,IPMT($B$7/$B$10,(H17-$G$8)*$B$10/12-$B$11+1,$B$9,-$B$6),0)))) +IF(MOD((H17-$H$8)*$C$10,12),0,IF(H17<$H$8,0,IF(H17<$H$9,$C$6*$C$7/$C$10,IF(H17<=$H$10,IPMT($C$7/$C$10,(H17-$H$8)*$C$10/12-$C$11+1,$C$9,-$C$6),0)))) -> 0 | I19: =IF(I17=$G$8,$B$6*$B$8,0)+IF(I17=$H$8,$C$6*$C$8,0) +IF(MOD((I17-$G$8)*$B$10,12),0,IF(I17<$G$8,0,IF(I17<$G$9,$B$6*$B$7/$B$10,IF(I17<=$G$10,IPMT($B$7/$B$10,(I17-$G$8)*$B$10/12-$B$11+1,$B$9,-$B$6),0)))) +IF(MOD((I17-$H$8)*$C$10,12),0,IF(I17<$H$8,0,IF(I17<$H$9,$C$6*$C$7/$C$10,IF(I17<=$H$10,IPMT($C$7/$C$10,(I17-$H$8)*$C$10/12-$C$11+1,$C$9,-$C$6),0)))) -> 0 | ... M19: =IF(M17=$G$8,$B$6*$B$8,0)+IF(M17=$H$8,$C$6*$C$8,0) +IF(MOD((M17-$G$8)*$B$10,12),0,IF(M17<$G$8,0,IF(M17<$G$9,$B$6*$B$7/$B$10,IF(M17<=$G$10,IPMT($B$7/$B$10,(M17-$G$8)*$B$10/12-$B$11+1,$B$9,-$B$6),0)))) +IF(MOD((M17-$H$8)*$C$10,12),0,IF(M17<$H$8,0,IF(M17<$H$9,$C$6*$C$7/$C$10,IF(M17<=$H$10,IPMT($C$7/$C$10,(M17-$H$8)*$C$10/12-$C$11+1,$C$9,-$C$6),0)))) -> 0 | N19: =SUM(B19:M19) -> 0
A20: Amortizaciones | B20: =IF(AND(B17>=$G$9,B17<=$G$10,MOD((B17-$G$8)*$B$10,12)=0),PPMT($B$7/$B$10,(B17-$G$8)*$B$10/12-$B$11+1,$B$9,-$B$6),0) +IF(AND(B17>=$H$9,B17<=$H$10,MOD((B17-$H$8)*$C$10,12)=0),PPMT($C$7/$C$10,(B17-$H$8)*$C$10/12-$C$11+1,$C$9,-$C$6),0) -> 0 | C20: =IF(AND(C17>=$G$9,C17<=$G$10,MOD((C17-$G$8)*$B$10,12)=0),PPMT($B$7/$B$10,(C17-$G$8)*$B$10/12-$B$11+1,$B$9,-$B$6),0) +IF(AND(C17>=$H$9,C17<=$H$10,MOD((C17-$H$8)*$C$10,12)=0),PPMT($C$7/$C$10,(C17-$H$8)*$C$10/12-$C$11+1,$C$9,-$C$6),0) -> 0 | D20: =IF(AND(D17>=$G$9,D17<=$G$10,MOD((D17-$G$8)*$B$10,12)=0),PPMT($B$7/$B$10,(D17-$G$8)*$B$10/12-$B$11+1,$B$9,-$B$6),0) +IF(AND(D17>=$H$9,D17<=$H$10,MOD((D17-$H$8)*$C$10,12)=0),PPMT($C$7/$C$10,(D17-$H$8)*$C$10/12-$C$11+1,$C$9,-$C$6),0) -> 0 | E20: =IF(AND(E17>=$G$9,E17<=$G$10,MOD((E17-$G$8)*$B$10,12)=0),PPMT($B$7/$B$10,(E17-$G$8)*$B$10/12-$B$11+1,$B$9,-$B$6),0) +IF(AND(E17>=$H$9,E17<=$H$10,MOD((E17-$H$8)*$C$10,12)=0),PPMT($C$7/$C$10,(E17-$H$8)*$C$10/12-$C$11+1,$C$9,-$C$6),0) -> 0 | F20: =IF(AND(F17>=$G$9,F17<=$G$10,MOD((F17-$G$8)*$B$10,12)=0),PPMT($B$7/$B$10,(F17-$G$8)*$B$10/12-$B$11+1,$B$9,-$B$6),0) +IF(AND(F17>=$H$9,F17<=$H$10,MOD((F17-$H$8)*$C$10,12)=0),PPMT($C$7/$C$10,(F17-$H$8)*$C$10/12-$C$11+1,$C$9,-$C$6),0) -> 0 | G20: =IF(AND(G17>=$G$9,G17<=$G$10,MOD((G17-$G$8)*$B$10,12)=0),PPMT($B$7/$B$10,(G17-$G$8)*$B$10/12-$B$11+1,$B$9,-$B$6),0) +IF(AND(G17>=$H$9,G17<=$H$10,MOD((G17-$H$8)*$C$10,12)=0),PPMT($C$7/$C$10,(G17-$H$8)*$C$10/12-$C$11+1,$C$9,-$C$6),0) -> 0 | H20: =IF(AND(H17>=$G$9,H17<=$G$10,MOD((H17-$G$8)*$B$10,12)=0),PPMT($B$7/$B$10,(H17-$G$8)*$B$10/12-$B$11+1,$B$9,-$B$6),0) +IF(AND(H17>=$H$9,H17<=$H$10,MOD((H17-$H$8)*$C$10,12)=0),PPMT($C$7/$C$10,(H17-$H$8)*$C$10/12-$C$11+1,$C$9,-$C$6),0) -> 0 | I20: =IF(AND(I17>=$G$9,I17<=$G$10,MOD((I17-$G$8)*$B$10,12)=0),PPMT($B$7/$B$10,(I17-$G$8)*$B$10/12-$B$11+1,$B$9,-$B$6),0) +IF(AND(I17>=$H$9,I17<=$H$10,MOD((I17-$H$8)*$C$10,12)=0),PPMT($C$7/$C$10,(I17-$H$8)*$C$10/12-$C$11+1,$C$9,-$C$6),0) -> 0 | ... M20: =IF(AND(M17>=$G$9,M17<=$G$10,MOD((M17-$G$8)*$B$10,12)=0),PPMT($B$7/$B$10,(M17-$G$8)*$B$10/12-$B$11+1,$B$9,-$B$6),0) +IF(AND(M17>=$H$9,M17<=$H$10,MOD((M17-$H$8)*$C$10,12)=0),PPMT($C$7/$C$10,(M17-$H$8)*$C$10/12-$C$11+1,$C$9,-$C$6),0) -> 0 | N20: =SUM(B20:M20) -> 0
A22: ='Datos Básicos'!C16 -> 1 | B22: =B16+1 -> 2027
A23: Periodos | B23: 13 | C23: 14 | D23: 15 | E23: 16 | F23: 17 | G23: 18 | H23: 19 | I23: 20 | J23: 21 | K23: 22 | L23: 23 | M23: 24 | N23: Total
A24: Pagos | B24: =B25+B26 -> 0 | C24: =C25+C26 -> 0 | D24: =D25+D26 -> 0 | E24: =E25+E26 -> 0 | F24: =F25+F26 -> 0 | G24: =G25+G26 -> 0 | H24: =H25+H26 -> 0 | I24: =I25+I26 -> 0 | ... M24: =M25+M26 -> 0 | N24: =SUM(B24:M24) -> 0
A25: Intereses | B25: =+IF(MOD((B23-$G$8)*$B$10,12),0,IF(B23<$G$8,0,IF(B23<$G$9,$B$6*$B$7/$B$10,IF(B23<=$G$10,IPMT($B$7/$B$10,(B23-$G$8)*$B$10/12-$B$11+1,$B$9,-$B$6),0)))) +IF(MOD((B23-$H$8)*$C$10,12),0,IF(B23<$H$8,0,IF(B23<$H$9,$C$6*$C$7/$C$10,IF(B23<=$H$10,IPMT($C$7/$C$10,(B23-$H$8)*$C$10/12-$C$11+1,$C$9,-$C$6),0)))) -> 0 | C25: =+IF(MOD((C23-$G$8)*$B$10,12),0,IF(C23<$G$8,0,IF(C23<$G$9,$B$6*$B$7/$B$10,IF(C23<=$G$10,IPMT($B$7/$B$10,(C23-$G$8)*$B$10/12-$B$11+1,$B$9,-$B$6),0)))) +IF(MOD((C23-$H$8)*$C$10,12),0,IF(C23<$H$8,0,IF(C23<$H$9,$C$6*$C$7/$C$10,IF(C23<=$H$10,IPMT($C$7/$C$10,(C23-$H$8)*$C$10/12-$C$11+1,$C$9,-$C$6),0)))) -> 0 | D25: =+IF(MOD((D23-$G$8)*$B$10,12),0,IF(D23<$G$8,0,IF(D23<$G$9,$B$6*$B$7/$B$10,IF(D23<=$G$10,IPMT($B$7/$B$10,(D23-$G$8)*$B$10/12-$B$11+1,$B$9,-$B$6),0)))) +IF(MOD((D23-$H$8)*$C$10,12),0,IF(D23<$H$8,0,IF(D23<$H$9,$C$6*$C$7/$C$10,IF(D23<=$H$10,IPMT($C$7/$C$10,(D23-$H$8)*$C$10/12-$C$11+1,$C$9,-$C$6),0)))) -> 0 | E25: =+IF(MOD((E23-$G$8)*$B$10,12),0,IF(E23<$G$8,0,IF(E23<$G$9,$B$6*$B$7/$B$10,IF(E23<=$G$10,IPMT($B$7/$B$10,(E23-$G$8)*$B$10/12-$B$11+1,$B$9,-$B$6),0)))) +IF(MOD((E23-$H$8)*$C$10,12),0,IF(E23<$H$8,0,IF(E23<$H$9,$C$6*$C$7/$C$10,IF(E23<=$H$10,IPMT($C$7/$C$10,(E23-$H$8)*$C$10/12-$C$11+1,$C$9,-$C$6),0)))) -> 0 | F25: =+IF(MOD((F23-$G$8)*$B$10,12),0,IF(F23<$G$8,0,IF(F23<$G$9,$B$6*$B$7/$B$10,IF(F23<=$G$10,IPMT($B$7/$B$10,(F23-$G$8)*$B$10/12-$B$11+1,$B$9,-$B$6),0)))) +IF(MOD((F23-$H$8)*$C$10,12),0,IF(F23<$H$8,0,IF(F23<$H$9,$C$6*$C$7/$C$10,IF(F23<=$H$10,IPMT($C$7/$C$10,(F23-$H$8)*$C$10/12-$C$11+1,$C$9,-$C$6),0)))) -> 0 | G25: =+IF(MOD((G23-$G$8)*$B$10,12),0,IF(G23<$G$8,0,IF(G23<$G$9,$B$6*$B$7/$B$10,IF(G23<=$G$10,IPMT($B$7/$B$10,(G23-$G$8)*$B$10/12-$B$11+1,$B$9,-$B$6),0)))) +IF(MOD((G23-$H$8)*$C$10,12),0,IF(G23<$H$8,0,IF(G23<$H$9,$C$6*$C$7/$C$10,IF(G23<=$H$10,IPMT($C$7/$C$10,(G23-$H$8)*$C$10/12-$C$11+1,$C$9,-$C$6),0)))) -> 0 | H25: =+IF(MOD((H23-$G$8)*$B$10,12),0,IF(H23<$G$8,0,IF(H23<$G$9,$B$6*$B$7/$B$10,IF(H23<=$G$10,IPMT($B$7/$B$10,(H23-$G$8)*$B$10/12-$B$11+1,$B$9,-$B$6),0)))) +IF(MOD((H23-$H$8)*$C$10,12),0,IF(H23<$H$8,0,IF(H23<$H$9,$C$6*$C$7/$C$10,IF(H23<=$H$10,IPMT($C$7/$C$10,(H23-$H$8)*$C$10/12-$C$11+1,$C$9,-$C$6),0)))) -> 0 | I25: =+IF(MOD((I23-$G$8)*$B$10,12),0,IF(I23<$G$8,0,IF(I23<$G$9,$B$6*$B$7/$B$10,IF(I23<=$G$10,IPMT($B$7/$B$10,(I23-$G$8)*$B$10/12-$B$11+1,$B$9,-$B$6),0)))) +IF(MOD((I23-$H$8)*$C$10,12),0,IF(I23<$H$8,0,IF(I23<$H$9,$C$6*$C$7/$C$10,IF(I23<=$H$10,IPMT($C$7/$C$10,(I23-$H$8)*$C$10/12-$C$11+1,$C$9,-$C$6),0)))) -> 0 | ... M25: =+IF(MOD((M23-$G$8)*$B$10,12),0,IF(M23<$G$8,0,IF(M23<$G$9,$B$6*$B$7/$B$10,IF(M23<=$G$10,IPMT($B$7/$B$10,(M23-$G$8)*$B$10/12-$B$11+1,$B$9,-$B$6),0)))) +IF(MOD((M23-$H$8)*$C$10,12),0,IF(M23<$H$8,0,IF(M23<$H$9,$C$6*$C$7/$C$10,IF(M23<=$H$10,IPMT($C$7/$C$10,(M23-$H$8)*$C$10/12-$C$11+1,$C$9,-$C$6),0)))) -> 0 | N25: =SUM(B25:M25) -> 0
A26: Amortizaciones | B26: =IF(AND(B23>=$G$9,B23<=$G$10,MOD((B23-$G$8)*$B$10,12)=0),PPMT($B$7/$B$10,(B23-$G$8)*$B$10/12-$B$11+1,$B$9,-$B$6),0) +IF(AND(B23>=$H$9,B23<=$H$10,MOD((B23-$H$8)*$C$10,12)=0),PPMT($C$7/$C$10,(B23-$H$8)*$C$10/12-$C$11+1,$C$9,-$C$6),0) -> 0 | C26: =IF(AND(C23>=$G$9,C23<=$G$10,MOD((C23-$G$8)*$B$10,12)=0),PPMT($B$7/$B$10,(C23-$G$8)*$B$10/12-$B$11+1,$B$9,-$B$6),0) +IF(AND(C23>=$H$9,C23<=$H$10,MOD((C23-$H$8)*$C$10,12)=0),PPMT($C$7/$C$10,(C23-$H$8)*$C$10/12-$C$11+1,$C$9,-$C$6),0) -> 0 | D26: =IF(AND(D23>=$G$9,D23<=$G$10,MOD((D23-$G$8)*$B$10,12)=0),PPMT($B$7/$B$10,(D23-$G$8)*$B$10/12-$B$11+1,$B$9,-$B$6),0) +IF(AND(D23>=$H$9,D23<=$H$10,MOD((D23-$H$8)*$C$10,12)=0),PPMT($C$7/$C$10,(D23-$H$8)*$C$10/12-$C$11+1,$C$9,-$C$6),0) -> 0 | E26: =IF(AND(E23>=$G$9,E23<=$G$10,MOD((E23-$G$8)*$B$10,12)=0),PPMT($B$7/$B$10,(E23-$G$8)*$B$10/12-$B$11+1,$B$9,-$B$6),0) +IF(AND(E23>=$H$9,E23<=$H$10,MOD((E23-$H$8)*$C$10,12)=0),PPMT($C$7/$C$10,(E23-$H$8)*$C$10/12-$C$11+1,$C$9,-$C$6),0) -> 0 | F26: =IF(AND(F23>=$G$9,F23<=$G$10,MOD((F23-$G$8)*$B$10,12)=0),PPMT($B$7/$B$10,(F23-$G$8)*$B$10/12-$B$11+1,$B$9,-$B$6),0) +IF(AND(F23>=$H$9,F23<=$H$10,MOD((F23-$H$8)*$C$10,12)=0),PPMT($C$7/$C$10,(F23-$H$8)*$C$10/12-$C$11+1,$C$9,-$C$6),0) -> 0 | G26: =IF(AND(G23>=$G$9,G23<=$G$10,MOD((G23-$G$8)*$B$10,12)=0),PPMT($B$7/$B$10,(G23-$G$8)*$B$10/12-$B$11+1,$B$9,-$B$6),0) +IF(AND(G23>=$H$9,G23<=$H$10,MOD((G23-$H$8)*$C$10,12)=0),PPMT($C$7/$C$10,(G23-$H$8)*$C$10/12-$C$11+1,$C$9,-$C$6),0) -> 0 | H26: =IF(AND(H23>=$G$9,H23<=$G$10,MOD((H23-$G$8)*$B$10,12)=0),PPMT($B$7/$B$10,(H23-$G$8)*$B$10/12-$B$11+1,$B$9,-$B$6),0) +IF(AND(H23>=$H$9,H23<=$H$10,MOD((H23-$H$8)*$C$10,12)=0),PPMT($C$7/$C$10,(H23-$H$8)*$C$10/12-$C$11+1,$C$9,-$C$6),0) -> 0 | I26: =IF(AND(I23>=$G$9,I23<=$G$10,MOD((I23-$G$8)*$B$10,12)=0),PPMT($B$7/$B$10,(I23-$G$8)*$B$10/12-$B$11+1,$B$9,-$B$6),0) +IF(AND(I23>=$H$9,I23<=$H$10,MOD((I23-$H$8)*$C$10,12)=0),PPMT($C$7/$C$10,(I23-$H$8)*$C$10/12-$C$11+1,$C$9,-$C$6),0) -> 0 | ... M26: =IF(AND(M23>=$G$9,M23<=$G$10,MOD((M23-$G$8)*$B$10,12)=0),PPMT($B$7/$B$10,(M23-$G$8)*$B$10/12-$B$11+1,$B$9,-$B$6),0) +IF(AND(M23>=$H$9,M23<=$H$10,MOD((M23-$H$8)*$C$10,12)=0),PPMT($C$7/$C$10,(M23-$H$8)*$C$10/12-$C$11+1,$C$9,-$C$6),0) -> 0 | N26: =SUM(B26:M26) -> 0
A28: =A22+1 -> 2 | B28: =B22+1 -> 2028
A29: Periodos | B29: 25 | C29: 26 | D29: 27 | E29: 28 | F29: 29 | G29: 30 | H29: 31 | I29: 32 | J29: 33 | K29: 34 | L29: 35 | M29: 36 | N29: Total
A30: Pagos | B30: =B31+B32 -> 0 | C30: =C31+C32 -> 0 | D30: =D31+D32 -> 0 | E30: =E31+E32 -> 0 | F30: =F31+F32 -> 0 | G30: =G31+G32 -> 0 | H30: =H31+H32 -> 0 | I30: =I31+I32 -> 0 | ... M30: =M31+M32 -> 0 | N30: =SUM(B30:M30) -> 0
