{"text_format":"1","workbook":"xlsx","n_sheets":3,"sheets":["Portada","Datos Empresa","Factura"],"not_rendered":{"charts":0,"images":4,"macros":1,"external_links":0,"defined_names":1,"comments":1,"pivot_tables":0},"unopened":[],"bounds":{"document_bytes":16777216,"sheet_cells":100000,"rows_first":2000,"rows_last":500,"rows_between":2000,"halvings":0,"cell_chars":16384,"cell_head_chars":4096},"cells_cut":0,"cells_raw":0,"read":"whole","date_system":"1900"}

{"sheet":"Portada","index":0,"n_rows":1,"n_cols":1,"rows_kept":1,"cut":false,"hidden":false,"merged":[[0,0,0,11]]}
["FACTURA"]

{"sheet":"Datos Empresa","index":1,"n_rows":35,"n_cols":15,"rows_kept":35,"cut":false,"hidden":false,"merged":[[20,7,20,8],[9,7,9,8],[10,7,10,8],[11,7,11,8],[12,7,12,8],[13,7,13,8],[14,7,14,8],[15,7,15,8],[16,7,16,8],[17,7,17,8],[18,7,18,8],[19,7,19,8],[27,7,27,8],[28,7,28,8],[21,7,21,8],[22,7,22,8],[23,7,23,8],[24,7,24,8],[25,7,25,8],[26,7,26,8]]}
[]
[]
[]
[]
[]
[null,"Datos Empresa"]
[]
[null,"Nombre",null,null,null,null,"Conceptos"]
[null,"NIF / CIF"]
[null,"Dirección",null,null,null,null,"Ref. ","Concepto",null,"Cantidad","Precio unitario","IVA (%)","Total"]
[null,"Ciudad",null,null,null,null,null,null,null,null,null,null,{"$f":"IF(J11=\"\",\"\",J11*K11*(1+L11))","v":""},null,0.21]
[null,"Teléfono",null,null,null,null,null,null,null,null,null,null,{"$f":"IF(J12=\"\",\"\",J12*K12*(1+L12))","v":""},null,0.1]
[null,null,null,null,null,null,null,null,null,null,null,null,"",null,0.04]
[null,null,null,null,null,null,null,null,null,null,null,null,""]
[null,null,null,null,null,null,null,null,null,null,null,null,""]
[null,null,null,null,null,null,null,null,null,null,null,null,""]
[null,"Cliente",null,null,null,null,null,null,null,null,null,null,""]
[null,null,null,null,null,null,null,null,null,null,null,null,""]
[null,"Nombre ",null,null,null,null,null,null,null,null,null,null,""]
[null,"NIF / CIF",null,null,null,null,null,null,null,null,null,null,""]
[null,"Dirección",null,null,null,null,null,null,null,null,null,null,""]
[null,"Ciudad",null,null,null,null,null,null,null,null,null,null,""]
[null,"Teléfono",null,null,null,null,null,null,null,null,null,null,""]
[null,null,null,null,null,null,null,null,null,null,null,null,""]
[null,null,null,null,null,null,null,null,null,null,null,null,""]
[null,null,null,null,null,null,null,null,null,null,null,null,""]
[null,null,null,null,null,null,null,null,null,null,null,null,""]
[null,null,null,null,null,null,null,null,null,null,null,null,""]
[null,"Factura",null,null,null,null,null,null,null,null,null,null,""]
[]
[null,"Fecha Emisión"]
[null,"Nº Cliente"]
[null,"Nº Factura"]
[null,"Vencimiento"]
[null,"Retenc. IRPF",0.21]

{"sheet":"Factura","index":2,"n_rows":47,"n_cols":8,"rows_kept":47,"cut":false,"hidden":false,"merged":[[38,1,38,2],[39,1,39,2],[40,1,40,2],[33,1,33,2],[34,1,34,2],[35,1,35,2],[36,1,36,2],[37,1,37,2],[28,1,28,2],[29,1,29,2],[30,1,30,2],[31,1,31,2],[32,1,32,2],[23,1,23,2],[24,1,24,2],[25,1,25,2],[26,1,26,2],[27,1,27,2],[18,1,18,2],[16,1,16,2],[17,1,17,2],[21,1,21,2],[22,1,22,2],[4,2,4,6],[14,1,14,2],[6,2,6,5],[15,1,15,2],[4,0,9,1]]}
[]
[]
[]
[]
[null,null,{"$f":"IF('Datos Empresa'!C8:D8<>0,'Datos Empresa'!C8:D8,\"Nombre Empresa\")","v":"Nombre Empresa"}]
[null,null,{"$f":"IF('Datos Empresa'!C9=0,\"\",'Datos Empresa'!C9)","v":""},null,null,"Factura Nº",{"$f":"IF('Datos Empresa'!C33=0,\"\",'Datos Empresa'!C33)","v":""}]
[null,null,{"$f":"IF('Datos Empresa'!C10:D10<>0,'Datos Empresa'!C10:D10,\"\")","v":""}]
[null,null,{"$f":"IF('Datos Empresa'!C11=0,\"\",'Datos Empresa'!C11)","v":""}]
[null,null,{"$f":"IF('Datos Empresa'!C12=0,\"\",'Datos Empresa'!C12)","v":""}]
[]
[]
[]
[]
[]
[null,{"$f":"IF('Datos Empresa'!C19=0,\"\",'Datos Empresa'!C19)","v":""},null,null,null,{"$f":"IF('Datos Empresa'!C31=0,\"\",'Datos Empresa'!C31)","v":""}]
[null,{"$f":"IF('Datos Empresa'!C20=0,\"\",'Datos Empresa'!C20)","v":""},null,null,null,{"$f":"IF('Datos Empresa'!C32=0,\"\",'Datos Empresa'!C32)","v":""}]
[null,{"$f":"IF('Datos Empresa'!C21=0,\"\",'Datos Empresa'!C21)","v":""},null,null,null,{"$f":"IF('Datos Empresa'!C34=0,\"\",'Datos Empresa'!C34)","v":""}]
[null,{"$f":"IF('Datos Empresa'!C22=0,\"\",'Datos Empresa'!C22)","v":""}]
[null,{"$f":"IF('Datos Empresa'!C23=0,\"\",'Datos Empresa'!C23)","v":""}]
[]
[]
["Ref. ","Concepto",null,"Cantidad","Precio","IVA ","Importes"]
[{"$f":"IF('Datos Empresa'!G11=0,\"\",'Datos Empresa'!G11)","v":""},{"$f":"IF('Datos Empresa'!H11=\"\",\"\",'Datos Empresa'!H11)","v":""},null,{"$f":"IF('Datos Empresa'!J11=0,\"\",'Datos Empresa'!J11)","v":""},{"$f":"IF('Datos Empresa'!K11=0,\"\",'Datos Empresa'!K11)","v":""},{"$f":"IF(A23=\"\",\"\",'Datos Empresa'!L11)","v":""},{"$f":"IF(D23=\"\",\"\",E23*D23)","v":""},{"$f":"IF(D23=\"\",\"\",G23*F23)","v":""}]
[{"$f":"IF('Datos Empresa'!G12=0,\"\",'Datos Empresa'!G12)","v":""},{"$f":"IF('Datos Empresa'!H12=\"\",\"\",'Datos Empresa'!H12)","v":""},null,{"$f":"IF('Datos Empresa'!J12=0,\"\",'Datos Empresa'!J12)","v":""},{"$f":"IF('Datos Empresa'!K12=0,\"\",'Datos Empresa'!K12)","v":""},{"$f":"IF(A24=\"\",\"\",'Datos Empresa'!L12)","v":""},{"$f":"IF(D24=\"\",\"\",E24*D24)","v":""},{"$f":"IF(D24=\"\",\"\",G24*F24)","v":""}]
[{"$f":"IF('Datos Empresa'!G13=0,\"\",'Datos Empresa'!G13)","v":""},{"$f":"IF('Datos Empresa'!H13=\"\",\"\",'Datos Empresa'!H13)","v":""},null,{"$f":"IF('Datos Empresa'!J13=0,\"\",'Datos Empresa'!J13)","v":""},{"$f":"IF('Datos Empresa'!K13=0,\"\",'Datos Empresa'!K13)","v":""},{"$f":"IF(A25=\"\",\"\",'Datos Empresa'!L13)","v":""},{"$f":"IF(D25=\"\",\"\",E25*D25)","v":""},""]
[{"$f":"IF('Datos Empresa'!G14=0,\"\",'Datos Empresa'!G14)","v":""},{"$f":"IF('Datos Empresa'!H14=\"\",\"\",'Datos Empresa'!H14)","v":""},null,{"$f":"IF('Datos Empresa'!J14=0,\"\",'Datos Empresa'!J14)","v":""},{"$f":"IF('Datos Empresa'!K14=0,\"\",'Datos Empresa'!K14)","v":""},{"$f":"IF(A26=\"\",\"\",'Datos Empresa'!L14)","v":""},"",""]
[{"$f":"IF('Datos Empresa'!G15=0,\"\",'Datos Empresa'!G15)","v":""},{"$f":"IF('Datos Empresa'!H15=\"\",\"\",'Datos Empresa'!H15)","v":""},null,{"$f":"IF('Datos Empresa'!J15=0,\"\",'Datos Empresa'!J15)","v":""},{"$f":"IF('Datos Empresa'!K15=0,\"\",'Datos Empresa'!K15)","v":""},{"$f":"IF(A27=\"\",\"\",'Datos Empresa'!L15)","v":""},"",""]
[{"$f":"IF('Datos Empresa'!G16=0,\"\",'Datos Empresa'!G16)","v":""},{"$f":"IF('Datos Empresa'!H16=\"\",\"\",'Datos Empresa'!H16)","v":""},null,{"$f":"IF('Datos Empresa'!J16=0,\"\",'Datos Empresa'!J16)","v":""},{"$f":"IF('Datos Empresa'!K16=0,\"\",'Datos Empresa'!K16)","v":""},{"$f":"IF(A28=\"\",\"\",'Datos Empresa'!L16)","v":""},"",""]
[{"$f":"IF('Datos Empresa'!G17=0,\"\",'Datos Empresa'!G17)","v":""},{"$f":"IF('Datos Empresa'!H17=\"\",\"\",'Datos Empresa'!H17)","v":""},null,{"$f":"IF('Datos Empresa'!J17=0,\"\",'Datos Empresa'!J17)","v":""},{"$f":"IF('Datos Empresa'!K17=0,\"\",'Datos Empresa'!K17)","v":""},{"$f":"IF(A29=\"\",\"\",'Datos Empresa'!L17)","v":""},"",""]
[{"$f":"IF('Datos Empresa'!G18=0,\"\",'Datos Empresa'!G18)","v":""},{"$f":"IF('Datos Empresa'!H18=\"\",\"\",'Datos Empresa'!H18)","v":""},null,{"$f":"IF('Datos Empresa'!J18=0,\"\",'Datos Empresa'!J18)","v":""},{"$f":"IF('Datos Empresa'!K18=0,\"\",'Datos Empresa'!K18)","v":""},{"$f":"IF(A30=\"\",\"\",'Datos Empresa'!L18)","v":""},"",""]
[{"$f":"IF('Datos Empresa'!G19=0,\"\",'Datos Empresa'!G19)","v":""},{"$f":"IF('Datos Empresa'!H19=\"\",\"\",'Datos Empresa'!H19)","v":""},null,{"$f":"IF('Datos Empresa'!J19=0,\"\",'Datos Empresa'!J19)","v":""},{"$f":"IF('Datos Empresa'!K19=0,\"\",'Datos Empresa'!K19)","v":""},{"$f":"IF(A31=\"\",\"\",'Datos Empresa'!L19)","v":""},"",""]
[{"$f":"IF('Datos Empresa'!G20=0,\"\",'Datos Empresa'!G20)","v":""},{"$f":"IF('Datos Empresa'!H20=\"\",\"\",'Datos Empresa'!H20)","v":""},null,{"$f":"IF('Datos Empresa'!J20=0,\"\",'Datos Empresa'!J20)","v":""},{"$f":"IF('Datos Empresa'!K20=0,\"\",'Datos Empresa'!K20)","v":""},{"$f":"IF(A32=\"\",\"\",'Datos Empresa'!L20)","v":""},"",""]
[{"$f":"IF('Datos Empresa'!G21=0,\"\",'Datos Empresa'!G21)","v":""},{"$f":"IF('Datos Empresa'!H21=\"\",\"\",'Datos Empresa'!H21)","v":""},null,{"$f":"IF('Datos Empresa'!J21=0,\"\",'Datos Empresa'!J21)","v":""},{"$f":"IF('Datos Empresa'!K21=0,\"\",'Datos Empresa'!K21)","v":""},{"$f":"IF(A33=\"\",\"\",'Datos Empresa'!L21)","v":""},"",""]
[{"$f":"IF('Datos Empresa'!G22=0,\"\",'Datos Empresa'!G22)","v":""},{"$f":"IF('Datos Empresa'!H22=\"\",\"\",'Datos Empresa'!H22)","v":""},null,{"$f":"IF('Datos Empresa'!J22=0,\"\",'Datos Empresa'!J22)","v":""},{"$f":"IF('Datos Empresa'!K22=0,\"\",'Datos Empresa'!K22)","v":""},{"$f":"IF(A34=\"\",\"\",'Datos Empresa'!L22)","v":""},"",""]
[{"$f":"IF('Datos Empresa'!G23=0,\"\",'Datos Empresa'!G23)","v":""},{"$f":"IF('Datos Empresa'!H23=\"\",\"\",'Datos Empresa'!H23)","v":""},null,{"$f":"IF('Datos Empresa'!J23=0,\"\",'Datos Empresa'!J23)","v":""},{"$f":"IF('Datos Empresa'!K23=0,\"\",'Datos Empresa'!K23)","v":""},{"$f":"IF(A35=\"\",\"\",'Datos Empresa'!L23)","v":""},"",""]
[{"$f":"IF('Datos Empresa'!G24=0,\"\",'Datos Empresa'!G24)","v":""},{"$f":"IF('Datos Empresa'!H24=\"\",\"\",'Datos Empresa'!H24)","v":""},null,{"$f":"IF('Datos Empresa'!J24=0,\"\",'Datos Empresa'!J24)","v":""},{"$f":"IF('Datos Empresa'!K24=0,\"\",'Datos Empresa'!K24)","v":""},{"$f":"IF(A36=\"\",\"\",'Datos Empresa'!L24)","v":""},"",""]
[{"$f":"IF('Datos Empresa'!G25=0,\"\",'Datos Empresa'!G25)","v":""},{"$f":"IF('Datos Empresa'!H25=\"\",\"\",'Datos Empresa'!H25)","v":""},null,{"$f":"IF('Datos Empresa'!J25=0,\"\",'Datos Empresa'!J25)","v":""},{"$f":"IF('Datos Empresa'!K25=0,\"\",'Datos Empresa'!K25)","v":""},{"$f":"IF(A37=\"\",\"\",'Datos Empresa'!L25)","v":""},"",""]
[{"$f":"IF('Datos Empresa'!G26=0,\"\",'Datos Empresa'!G26)","v":""},{"$f":"IF('Datos Empresa'!H26=\"\",\"\",'Datos Empresa'!H26)","v":""},null,{"$f":"IF('Datos Empresa'!J26=0,\"\",'Datos Empresa'!J26)","v":""},{"$f":"IF('Datos Empresa'!K26=0,\"\",'Datos Empresa'!K26)","v":""},{"$f":"IF(A38=\"\",\"\",'Datos Empresa'!L26)","v":""},"",""]
[{"$f":"IF('Datos Empresa'!G27=0,\"\",'Datos Empresa'!G27)","v":""},{"$f":"IF('Datos Empresa'!H27=\"\",\"\",'Datos Empresa'!H27)","v":""},null,{"$f":"IF('Datos Empresa'!J27=0,\"\",'Datos Empresa'!J27)","v":""},{"$f":"IF('Datos Empresa'!K27=0,\"\",'Datos Empresa'!K27)","v":""},{"$f":"IF(A39=\"\",\"\",'Datos Empresa'!L27)","v":""},"",""]
[{"$f":"IF('Datos Empresa'!G28=0,\"\",'Datos Empresa'!G28)","v":""},{"$f":"IF('Datos Empresa'!H28=\"\",\"\",'Datos Empresa'!H28)","v":""},null,{"$f":"IF('Datos Empresa'!J28=0,\"\",'Datos Empresa'!J28)","v":""},{"$f":"IF('Datos Empresa'!K28=0,\"\",'Datos Empresa'!K28)","v":""},{"$f":"IF(A40=\"\",\"\",'Datos Empresa'!L28)","v":""},"",""]
[{"$f":"IF('Datos Empresa'!G29=0,\"\",'Datos Empresa'!G29)","v":""},{"$f":"IF('Datos Empresa'!H29=\"\",\"\",'Datos Empresa'!H29)","v":""},null,{"$f":"IF('Datos Empresa'!J29=0,\"\",'Datos Empresa'!J29)","v":""},{"$f":"IF('Datos Empresa'!K29=0,\"\",'Datos Empresa'!K29)","v":""},{"$f":"IF(A41=\"\",\"\",'Datos Empresa'!L29)","v":""},"",""]
[null,null,null,null,null,"SubTotal",{"$f":"SUM(G23:G41)","v":0}]
[]
[null,null,null,null,null,"IVA",{"$f":"IF(G42=0,0,SUM(H23:H41))","v":0}]
[null,null,null,null,null,"Ret. IRPF",{"$f":"('Datos Empresa'!C35)*G42","v":0}]
[]
[null,null,null,null,null,"TOTAL",{"$f":"IF(G42=0,0,IF(G45=0,G42+G44,G42+G44-G45))","v":0}]